BEGIN:VCALENDAR
VERSION:2.0
PRODID:-//Uwharrie Charter Academy - ECPv6.15.15//NONSGML v1.0//EN
CALSCALE:GREGORIAN
METHOD:PUBLISH
X-ORIGINAL-URL:https://uwharriecharter.org
X-WR-CALDESC:Events for Uwharrie Charter Academy
REFRESH-INTERVAL;VALUE=DURATION:PT1H
X-Robots-Tag:noindex
X-PUBLISHED-TTL:PT1H
BEGIN:VTIMEZONE
TZID:America/Halifax
BEGIN:DAYLIGHT
TZOFFSETFROM:-0400
TZOFFSETTO:-0300
TZNAME:ADT
DTSTART:20230312T060000
END:DAYLIGHT
BEGIN:STANDARD
TZOFFSETFROM:-0300
TZOFFSETTO:-0400
TZNAME:AST
DTSTART:20231105T050000
END:STANDARD
BEGIN:DAYLIGHT
TZOFFSETFROM:-0400
TZOFFSETTO:-0300
TZNAME:ADT
DTSTART:20240310T060000
END:DAYLIGHT
BEGIN:STANDARD
TZOFFSETFROM:-0300
TZOFFSETTO:-0400
TZNAME:AST
DTSTART:20241103T050000
END:STANDARD
BEGIN:DAYLIGHT
TZOFFSETFROM:-0400
TZOFFSETTO:-0300
TZNAME:ADT
DTSTART:20250309T060000
END:DAYLIGHT
BEGIN:STANDARD
TZOFFSETFROM:-0300
TZOFFSETTO:-0400
TZNAME:AST
DTSTART:20251102T050000
END:STANDARD
END:VTIMEZONE
BEGIN:VEVENT
DTSTART;VALUE=DATE:20240919
DTEND;VALUE=DATE:20240920
DTSTAMP:20260423T192554
CREATED:20240905T173311Z
LAST-MODIFIED:20240919T042431Z
UID:1756-1726704000-1726790399@uwharriecharter.org
SUMMARY:Virtual Day for Students -- Parent/Teacher Conferences
DESCRIPTION:
URL:https://uwharriecharter.org/event/virtual-day-for-students-parent-teacher-conferences/
CATEGORIES:District Events,Elementary School,High School,Middle School
END:VEVENT
BEGIN:VEVENT
DTSTART;VALUE=DATE:20240919
DTEND;VALUE=DATE:20240920
DTSTAMP:20260423T192554
CREATED:20240905T173311Z
LAST-MODIFIED:20240919T042431Z
UID:1757-1726704000-1726790399@uwharriecharter.org
SUMMARY:Teacher Workday
DESCRIPTION:
URL:https://uwharriecharter.org/event/teacher-workday/
CATEGORIES:District Events,Elementary School,High School,Middle School
END:VEVENT
END:VCALENDAR