BEGIN:VCALENDAR
VERSION:2.0
PRODID:-//Uwharrie Charter Academy - ECPv6.15.15//NONSGML v1.0//EN
CALSCALE:GREGORIAN
METHOD:PUBLISH
X-WR-CALNAME:Uwharrie Charter Academy
X-ORIGINAL-URL:https://uwharriecharter.org
X-WR-CALDESC:Events for Uwharrie Charter Academy
REFRESH-INTERVAL;VALUE=DURATION:PT1H
X-Robots-Tag:noindex
X-PUBLISHED-TTL:PT1H
BEGIN:VTIMEZONE
TZID:America/Halifax
BEGIN:DAYLIGHT
TZOFFSETFROM:-0400
TZOFFSETTO:-0300
TZNAME:ADT
DTSTART:20230312T060000
END:DAYLIGHT
BEGIN:STANDARD
TZOFFSETFROM:-0300
TZOFFSETTO:-0400
TZNAME:AST
DTSTART:20231105T050000
END:STANDARD
BEGIN:DAYLIGHT
TZOFFSETFROM:-0400
TZOFFSETTO:-0300
TZNAME:ADT
DTSTART:20240310T060000
END:DAYLIGHT
BEGIN:STANDARD
TZOFFSETFROM:-0300
TZOFFSETTO:-0400
TZNAME:AST
DTSTART:20241103T050000
END:STANDARD
BEGIN:DAYLIGHT
TZOFFSETFROM:-0400
TZOFFSETTO:-0300
TZNAME:ADT
DTSTART:20250309T060000
END:DAYLIGHT
BEGIN:STANDARD
TZOFFSETFROM:-0300
TZOFFSETTO:-0400
TZNAME:AST
DTSTART:20251102T050000
END:STANDARD
BEGIN:DAYLIGHT
TZOFFSETFROM:-0400
TZOFFSETTO:-0300
TZNAME:ADT
DTSTART:20260308T060000
END:DAYLIGHT
BEGIN:STANDARD
TZOFFSETFROM:-0300
TZOFFSETTO:-0400
TZNAME:AST
DTSTART:20261101T050000
END:STANDARD
END:VTIMEZONE
BEGIN:VEVENT
DTSTART;TZID=America/Halifax:20250930T160000
DTEND;TZID=America/Halifax:20250930T180000
DTSTAMP:20260423T164411
CREATED:20250930T200712Z
LAST-MODIFIED:20250930T200712Z
UID:4332-1759248000-1759255200@uwharriecharter.org
SUMMARY:Academic Excellent Meeting
DESCRIPTION:Join Zoom Meeting\nhttps://us06web.zoom.us/j/86292042770?pwd=jwTi8E6vG8TZB6I2pblL6JqL6SZCbH.1Meeting ID: 862 9204 2770\nPasscode: 732336 \n— \nOne tap mobile\n+16469313860\,\,86292042770#\,\,\,\,*732336# US\n+19294362866\,\,86292042770#\,\,\,\,*732336# US (New York) \nJoin instructions\nhttps://us06web.zoom.us/meetings/86292042770/invitations?signature=SykLvAhudqKCr6780VsfIgqo5X3braCvZJKVLx3q3B8 \n\n\n\n\n\n \n\n\n\n\nWhen\n\n\n\n\nTuesday Sep 30\, 2025 ⋅ 4pm – 6pm (Eastern Time – New York) \n\n\n\n\n\n\n\n\n\nLocation\n\n\n\n\nhttps://us06web.zoom.us/j/86292042770?pwd=jwTi8E6vG8TZB6I2pblL6JqL6SZCbH.1\nView map
URL:https://uwharriecharter.org/event/academic-excellent-meeting/
CATEGORIES:District Events
END:VEVENT
BEGIN:VEVENT
DTSTART;VALUE=DATE:20250602
DTEND;VALUE=DATE:20250603
DTSTAMP:20260423T164411
CREATED:20240905T173317Z
LAST-MODIFIED:20250602T153333Z
UID:1831-1748822400-1748908799@uwharriecharter.org
SUMMARY:Teacher Workday
DESCRIPTION:
URL:https://uwharriecharter.org/event/teacher-workday-5/
CATEGORIES:District Events,Elementary School,High School,Middle School
END:VEVENT
BEGIN:VEVENT
DTSTART;TZID=America/Halifax:20250530T180000
DTEND;TZID=America/Halifax:20250530T193000
DTSTAMP:20260423T164411
CREATED:20240905T173317Z
LAST-MODIFIED:20250530T153354Z
UID:1829-1748628000-1748633400@uwharriecharter.org
SUMMARY:High School Graduation - Greensboro Coliseum
DESCRIPTION:
URL:https://uwharriecharter.org/event/high-school-graduation/
CATEGORIES:District Events,High School
END:VEVENT
BEGIN:VEVENT
DTSTART;VALUE=DATE:20250530
DTEND;VALUE=DATE:20250531
DTSTAMP:20260423T164411
CREATED:20240905T173317Z
LAST-MODIFIED:20250530T153354Z
UID:1830-1748563200-1748649599@uwharriecharter.org
SUMMARY:Last Day for Students & End of Quarter 4
DESCRIPTION:
URL:https://uwharriecharter.org/event/last-day-for-students-end-of-quarter-4/
CATEGORIES:District Events,Elementary School,High School,Middle School
END:VEVENT
BEGIN:VEVENT
DTSTART;VALUE=DATE:20250527
DTEND;VALUE=DATE:20250531
DTSTAMP:20260423T164411
CREATED:20240905T173317Z
LAST-MODIFIED:20250530T153354Z
UID:1827-1748304000-1748649599@uwharriecharter.org
SUMMARY:High School EOC Exams
DESCRIPTION:
URL:https://uwharriecharter.org/event/high-school-eoc-exams-3/
CATEGORIES:District Events,High School
END:VEVENT
BEGIN:VEVENT
DTSTART;VALUE=DATE:20250527
DTEND;VALUE=DATE:20250531
DTSTAMP:20260423T164411
CREATED:20240905T173316Z
LAST-MODIFIED:20250530T153354Z
UID:1826-1748304000-1748649599@uwharriecharter.org
SUMMARY:Elementary and Middle EOG Window
DESCRIPTION:
URL:https://uwharriecharter.org/event/elementary-and-middle-eog-window-2/
CATEGORIES:District Events,Elementary School,Middle School
END:VEVENT
BEGIN:VEVENT
DTSTART;VALUE=DATE:20250526
DTEND;VALUE=DATE:20250527
DTSTAMP:20260423T164411
CREATED:20240905T173317Z
LAST-MODIFIED:20250410T010255Z
UID:1828-1748217600-1748303999@uwharriecharter.org
SUMMARY:Holiday -- Closed
DESCRIPTION:
URL:https://uwharriecharter.org/event/holiday-closed-5/
CATEGORIES:District Events,Elementary School,High School,Middle School
END:VEVENT
BEGIN:VEVENT
DTSTART;VALUE=DATE:20250523
DTEND;VALUE=DATE:20250524
DTSTAMP:20260423T164411
CREATED:20240905T173316Z
LAST-MODIFIED:20250410T010254Z
UID:1824-1747958400-1748044799@uwharriecharter.org
SUMMARY:High School EOC Exams
DESCRIPTION:
URL:https://uwharriecharter.org/event/high-school-eoc-exams-2/
CATEGORIES:District Events,High School
END:VEVENT
BEGIN:VEVENT
DTSTART;VALUE=DATE:20250519
DTEND;VALUE=DATE:20250524
DTSTAMP:20260423T164411
CREATED:20240905T173316Z
LAST-MODIFIED:20250410T010255Z
UID:1825-1747612800-1748044799@uwharriecharter.org
SUMMARY:Elementary and Middle EOG Window
DESCRIPTION:
URL:https://uwharriecharter.org/event/elementary-and-middle-eog-window/
CATEGORIES:District Events,Elementary School,Middle School
END:VEVENT
BEGIN:VEVENT
DTSTART;VALUE=DATE:20250516
DTEND;VALUE=DATE:20250517
DTSTAMP:20260423T164411
CREATED:20240905T173316Z
LAST-MODIFIED:20250410T010254Z
UID:1823-1747353600-1747439999@uwharriecharter.org
SUMMARY:Elementary & Middle School EOG Window
DESCRIPTION:
URL:https://uwharriecharter.org/event/elementary-middle-school-eog-window/
CATEGORIES:District Events,Elementary School,Middle School
END:VEVENT
BEGIN:VEVENT
DTSTART;VALUE=DATE:20250421
DTEND;VALUE=DATE:20250422
DTSTAMP:20260423T164411
CREATED:20240905T173316Z
LAST-MODIFIED:20250410T010255Z
UID:1822-1745193600-1745279999@uwharriecharter.org
SUMMARY:Holiday -- Closed
DESCRIPTION:
URL:https://uwharriecharter.org/event/holiday-closed-4/
CATEGORIES:District Events,Elementary School,High School,Middle School
END:VEVENT
BEGIN:VEVENT
DTSTART;VALUE=DATE:20250414
DTEND;VALUE=DATE:20250419
DTSTAMP:20260423T164411
CREATED:20240905T173316Z
LAST-MODIFIED:20250410T010254Z
UID:1821-1744588800-1745020799@uwharriecharter.org
SUMMARY:Spring Break
DESCRIPTION:
URL:https://uwharriecharter.org/event/spring-break/
CATEGORIES:District Events,Elementary School,High School,Middle School
END:VEVENT
BEGIN:VEVENT
DTSTART;VALUE=DATE:20250410
DTEND;VALUE=DATE:20250411
DTSTAMP:20260423T164411
CREATED:20240905T173316Z
LAST-MODIFIED:20250317T003256Z
UID:1820-1744243200-1744329599@uwharriecharter.org
SUMMARY:Cap & Gown Pictures
DESCRIPTION:
URL:https://uwharriecharter.org/event/cap-gown-pictures/
CATEGORIES:District Events,High School
END:VEVENT
BEGIN:VEVENT
DTSTART;TZID=America/Halifax:20250325T180000
DTEND;TZID=America/Halifax:20250325T200000
DTSTAMP:20260423T164411
CREATED:20250318T003346Z
LAST-MODIFIED:20250325T003305Z
UID:3419-1742925600-1742932800@uwharriecharter.org
SUMMARY:Open House for Prospective 6th-12th Grade Families
DESCRIPTION:
URL:https://uwharriecharter.org/event/open-house-for-prospective-6th-12th-grade-families/
LOCATION:UCA High School\, 207C Eagle Lane\, Asheboro\, NC\, 27205\, United States
CATEGORIES:District Events
END:VEVENT
BEGIN:VEVENT
DTSTART;VALUE=DATE:20250314
DTEND;VALUE=DATE:20250315
DTSTAMP:20260423T164411
CREATED:20240905T173316Z
LAST-MODIFIED:20250314T003248Z
UID:1818-1741910400-1741996799@uwharriecharter.org
SUMMARY:Teacher Workday
DESCRIPTION:
URL:https://uwharriecharter.org/event/teacher-workday-4/
CATEGORIES:District Events,Elementary School,High School,Middle School
END:VEVENT
BEGIN:VEVENT
DTSTART;VALUE=DATE:20250314
DTEND;VALUE=DATE:20250315
DTSTAMP:20260423T164411
CREATED:20240905T173316Z
LAST-MODIFIED:20250314T003249Z
UID:1819-1741910400-1741996799@uwharriecharter.org
SUMMARY:Virtual Day for Students & End of Quarter 3
DESCRIPTION:
URL:https://uwharriecharter.org/event/virtual-day-for-students-end-of-quarter-3/
CATEGORIES:District Events,Elementary School,High School,Middle School
END:VEVENT
BEGIN:VEVENT
DTSTART;VALUE=DATE:20250217
DTEND;VALUE=DATE:20250219
DTSTAMP:20260423T164411
CREATED:20240905T173316Z
LAST-MODIFIED:20250217T234827Z
UID:1817-1739754000-1739840399@uwharriecharter.org
SUMMARY:Holiday -- Closed
DESCRIPTION:
URL:https://uwharriecharter.org/event/holiday-closed-3/
CATEGORIES:District Events,Elementary School,High School,Middle School
END:VEVENT
BEGIN:VEVENT
DTSTART;VALUE=DATE:20250120
DTEND;VALUE=DATE:20250122
DTSTAMP:20260423T164411
CREATED:20240905T173316Z
LAST-MODIFIED:20250121T184713Z
UID:1816-1737334800-1737421199@uwharriecharter.org
SUMMARY:Holiday -- Closed
DESCRIPTION:
URL:https://uwharriecharter.org/event/holiday-closed-2/
CATEGORIES:District Events,Elementary School,High School,Middle School
END:VEVENT
BEGIN:VEVENT
DTSTART;VALUE=DATE:20250106
DTEND;VALUE=DATE:20250108
DTSTAMP:20260423T164411
CREATED:20240905T173316Z
LAST-MODIFIED:20250106T224753Z
UID:1815-1736125200-1736211599@uwharriecharter.org
SUMMARY:Students Return
DESCRIPTION:
URL:https://uwharriecharter.org/event/students-return/
CATEGORIES:District Events,Elementary School,High School,Middle School
END:VEVENT
BEGIN:VEVENT
DTSTART;VALUE=DATE:20250103
DTEND;VALUE=DATE:20250105
DTSTAMP:20260423T164411
CREATED:20240905T173315Z
LAST-MODIFIED:20250103T224817Z
UID:1814-1735866000-1735952399@uwharriecharter.org
SUMMARY:Teacher Workday
DESCRIPTION:
URL:https://uwharriecharter.org/event/teacher-workday-3/
CATEGORIES:District Events,Elementary School,High School,Middle School
END:VEVENT
BEGIN:VEVENT
DTSTART;VALUE=DATE:20241223
DTEND;VALUE=DATE:20250105
DTSTAMP:20260423T164411
CREATED:20240905T173315Z
LAST-MODIFIED:20250103T224817Z
UID:1813-1734915600-1735952399@uwharriecharter.org
SUMMARY:Winter Break
DESCRIPTION:
URL:https://uwharriecharter.org/event/winter-break/
CATEGORIES:District Events,Elementary School,High School,Middle School
END:VEVENT
BEGIN:VEVENT
DTSTART;VALUE=DATE:20241220
DTEND;VALUE=DATE:20241222
DTSTAMP:20260423T164411
CREATED:20240905T173315Z
LAST-MODIFIED:20241220T220310Z
UID:1811-1734656400-1734742799@uwharriecharter.org
SUMMARY:End of Quarter 2
DESCRIPTION:
URL:https://uwharriecharter.org/event/end-of-quarter-2/
CATEGORIES:District Events,Elementary School,High School,Middle School
END:VEVENT
BEGIN:VEVENT
DTSTART;VALUE=DATE:20241216
DTEND;VALUE=DATE:20241222
DTSTAMP:20260423T164411
CREATED:20240905T173315Z
LAST-MODIFIED:20241220T220310Z
UID:1812-1734310800-1734742799@uwharriecharter.org
SUMMARY:High School EOC Exams
DESCRIPTION:
URL:https://uwharriecharter.org/event/high-school-eoc-exams/
CATEGORIES:District Events,High School
END:VEVENT
BEGIN:VEVENT
DTSTART;VALUE=DATE:20241128
DTEND;VALUE=DATE:20241201
DTSTAMP:20260423T164411
CREATED:20240905T173315Z
LAST-MODIFIED:20241129T151854Z
UID:1809-1732755600-1732928399@uwharriecharter.org
SUMMARY:Thanksgiving Break
DESCRIPTION:
URL:https://uwharriecharter.org/event/thanksgiving-break/
CATEGORIES:District Events,Elementary School,High School,Middle School
END:VEVENT
BEGIN:VEVENT
DTSTART;VALUE=DATE:20241127
DTEND;VALUE=DATE:20241129
DTSTAMP:20260423T164411
CREATED:20240905T173315Z
LAST-MODIFIED:20241127T150310Z
UID:1810-1732669200-1732755599@uwharriecharter.org
SUMMARY:Remote Day for Students & Staff
DESCRIPTION:
URL:https://uwharriecharter.org/event/remote-day-for-students-staff/
CATEGORIES:District Events,Elementary School,High School,Middle School
END:VEVENT
BEGIN:VEVENT
DTSTART;VALUE=DATE:20241111
DTEND;VALUE=DATE:20241113
DTSTAMP:20260423T164411
CREATED:20240905T173315Z
LAST-MODIFIED:20241111T100655Z
UID:1805-1731286800-1731373199@uwharriecharter.org
SUMMARY:Holiday -- Closed
DESCRIPTION:
URL:https://uwharriecharter.org/event/holiday-closed/
CATEGORIES:District Events,Elementary School,High School,Middle School
END:VEVENT
BEGIN:VEVENT
DTSTART;VALUE=DATE:20241105
DTEND;VALUE=DATE:20241107
DTSTAMP:20260423T164411
CREATED:20240905T173314Z
LAST-MODIFIED:20241105T135312Z
UID:1801-1730768400-1730854799@uwharriecharter.org
SUMMARY:Teacher Workday
DESCRIPTION:
URL:https://uwharriecharter.org/event/teacher-workday-2/
CATEGORIES:District Events,Elementary School,High School,Middle School
END:VEVENT
BEGIN:VEVENT
DTSTART;VALUE=DATE:20241105
DTEND;VALUE=DATE:20241107
DTSTAMP:20260423T164411
CREATED:20240905T173314Z
LAST-MODIFIED:20241105T135312Z
UID:1800-1730768400-1730854799@uwharriecharter.org
SUMMARY:Virtual Day for Students
DESCRIPTION:
URL:https://uwharriecharter.org/event/virtual-day-for-students/
CATEGORIES:District Events,Elementary School,High School,Middle School
END:VEVENT
BEGIN:VEVENT
DTSTART;VALUE=DATE:20241023
DTEND;VALUE=DATE:20241024
DTSTAMP:20260423T164411
CREATED:20240905T173313Z
LAST-MODIFIED:20241022T210538Z
UID:1788-1729641600-1729727999@uwharriecharter.org
SUMMARY:Fall Underclassmen Retake Pictures
DESCRIPTION:
URL:https://uwharriecharter.org/event/fall-underclassmen-retake-pictures/
CATEGORIES:District Events,High School
END:VEVENT
BEGIN:VEVENT
DTSTART;VALUE=DATE:20241022
DTEND;VALUE=DATE:20241023
DTSTAMP:20260423T164411
CREATED:20240905T173314Z
LAST-MODIFIED:20241022T210538Z
UID:1790-1729555200-1729641599@uwharriecharter.org
SUMMARY:Seniors Makeup Pictures - Final Call
DESCRIPTION:
URL:https://uwharriecharter.org/event/seniors-makeup-pictures-final-call/
CATEGORIES:District Events,High School
END:VEVENT
END:VCALENDAR