BEGIN:VCALENDAR
VERSION:2.0
PRODID:-//Uwharrie Charter Academy - ECPv6.15.15//NONSGML v1.0//EN
CALSCALE:GREGORIAN
METHOD:PUBLISH
X-WR-CALNAME:Uwharrie Charter Academy
X-ORIGINAL-URL:https://uwharriecharter.org
X-WR-CALDESC:Events for Uwharrie Charter Academy
REFRESH-INTERVAL;VALUE=DURATION:PT1H
X-Robots-Tag:noindex
X-PUBLISHED-TTL:PT1H
BEGIN:VTIMEZONE
TZID:America/Halifax
BEGIN:DAYLIGHT
TZOFFSETFROM:-0400
TZOFFSETTO:-0300
TZNAME:ADT
DTSTART:20240310T060000
END:DAYLIGHT
BEGIN:STANDARD
TZOFFSETFROM:-0300
TZOFFSETTO:-0400
TZNAME:AST
DTSTART:20241103T050000
END:STANDARD
BEGIN:DAYLIGHT
TZOFFSETFROM:-0400
TZOFFSETTO:-0300
TZNAME:ADT
DTSTART:20250309T060000
END:DAYLIGHT
BEGIN:STANDARD
TZOFFSETFROM:-0300
TZOFFSETTO:-0400
TZNAME:AST
DTSTART:20251102T050000
END:STANDARD
BEGIN:DAYLIGHT
TZOFFSETFROM:-0400
TZOFFSETTO:-0300
TZNAME:ADT
DTSTART:20260308T060000
END:DAYLIGHT
BEGIN:STANDARD
TZOFFSETFROM:-0300
TZOFFSETTO:-0400
TZNAME:AST
DTSTART:20261101T050000
END:STANDARD
BEGIN:DAYLIGHT
TZOFFSETFROM:-0400
TZOFFSETTO:-0300
TZNAME:ADT
DTSTART:20270314T060000
END:DAYLIGHT
BEGIN:STANDARD
TZOFFSETFROM:-0300
TZOFFSETTO:-0400
TZNAME:AST
DTSTART:20271107T050000
END:STANDARD
END:VTIMEZONE
BEGIN:VEVENT
DTSTART;TZID=America/Halifax:20251112T183000
DTEND;TZID=America/Halifax:20251112T203000
DTSTAMP:20260425T094010
CREATED:20251112T133454Z
LAST-MODIFIED:20251112T133454Z
UID:4621-1762972200-1762979400@uwharriecharter.org
SUMMARY:Executive Cabinet Meeting
DESCRIPTION:Join Zoom Meeting\nhttps://us06web.zoom.us/j/88641930412?pwd=QoMDVzbLrpaL5fgVSvXGaMTFa9i9rZ.1Meeting ID: 886 4193 0412\nPasscode: 528664 \n— \nOne tap mobile\n+13092053325\,\,88641930412#\,\,\,\,*528664# US\n+13126266799\,\,88641930412#\,\,\,\,*528664# US (Chicago) \nJoin instructions\nhttps://us06web.zoom.us/meetings/88641930412/invitations?signature=RAwepeRpg_XkICX3RpFmZZJnn0fAyP5KRt3NUXPRTx8 \n  \n\n\n\n\n\n \n\n\n\n\nWhen\n\n\n\n\nWednesday Nov 12\, 2025 ⋅ 6:30pm – 8:30pm (Eastern Time – New York) \n\n\n\n\n\n\n\n\n\nLocation\n\n\n\n\nhttps://us06web.zoom.us/j/88641930412?pwd=QoMDVzbLrpaL5fgVSvXGaMTFa9i9rZ.1\nView map
URL:https://uwharriecharter.org/event/executive-cabinet-meeting-3/
CATEGORIES:Board Meetings
END:VEVENT
BEGIN:VEVENT
DTSTART;TZID=America/Halifax:20251120T173000
DTEND;TZID=America/Halifax:20251120T183000
DTSTAMP:20260425T094010
CREATED:20250919T170417Z
LAST-MODIFIED:20251118T130936Z
UID:4300-1763659800-1763663400@uwharriecharter.org
SUMMARY:Governance Committee Meeting
DESCRIPTION:Join Zoom Meeting\nhttps://us06web.zoom.us/j/81445471707?pwd=cmboXSb8QqSk8Tx1FqGxUKwR9JBfGb.1Meeting ID: 814 4547 1707\nPasscode: 074605 \n— \nOne tap mobile\n+13126266799\,\,81445471707#\,\,\,\,*074605# US (Chicago)\n+16469313860\,\,81445471707#\,\,\,\,*074605# US \nJoin instructions\nhttps://us06web.zoom.us/meetings/81445471707/invitations?signature=8usx38vkmrPGW0PLmdm4Lq5E2cgJQ5C_fcNXeRpBZy4 \n\n\n\n\n\n \n\n\n\n\nWhen\n\n\n\nCHANGED\n\n\n\n\nThursday Nov 20\, 2025 ⋅ 5:30pm – 6:30pm (Eastern Time – New York)\nWednesday Nov 19\, 2025 ⋅ 5:30pm – 6:30pm (Eastern Time – New York)\n\n\n\n\n\n\n\n\n\nLocation\n\n\n\n\nhttps://us06web.zoom.us/j/81445471707?pwd=cmboXSb8QqSk8Tx1FqGxUKwR9JBfGb.1\nView map\n\n\n\n\n 
URL:https://uwharriecharter.org/event/governance-committee-meeting-6/
CATEGORIES:Board Meetings
END:VEVENT
BEGIN:VEVENT
DTSTART;TZID=America/Halifax:20251216T180000
DTEND;TZID=America/Halifax:20251216T200000
DTSTAMP:20260425T094010
CREATED:20251207T043030Z
LAST-MODIFIED:20251207T043030Z
UID:4688-1765908000-1765915200@uwharriecharter.org
SUMMARY:Called Board Meeting
DESCRIPTION:Closed to discuss Personnel GS143-318.11 (a)(6).
URL:https://uwharriecharter.org/event/called-board-meeting/
CATEGORIES:Board Meetings
END:VEVENT
BEGIN:VEVENT
DTSTART;TZID=America/Halifax:20260106T160000
DTEND;TZID=America/Halifax:20260106T170000
DTSTAMP:20260425T094010
CREATED:20260104T173219Z
LAST-MODIFIED:20260104T173219Z
UID:4737-1767715200-1767718800@uwharriecharter.org
SUMMARY:Academic Excellence Meeting
DESCRIPTION:Join Zoom Meeting\nhttps://us06web.zoom.us/j/82924661732?pwd=D1JQMfIohP24eO4ujjaesftFT83Odb.1Meeting ID: 829 2466 1732\nPasscode: 547229 \n— \nOne tap mobile\n+16469313860\,\,82924661732#\,\,\,\,*547229# US\n+19294362866\,\,82924661732#\,\,\,\,*547229# US (New York) \nJoin instructions\nhttps://us06web.zoom.us/meetings/82924661732/invitations?signature=4LCRl7e1X95QLZmMdM2jOpXYs-hIysRWk-SuRf_DwMU \n  \n\n\n\n\n\n \n\n\n\n\nWhen\n\n\n\n\nTuesday Jan 6\, 2026 ⋅ 4pm – 5pm (Eastern Time – New York) \n\n\n\n\n\n\n\n\n\nLocation\n\n\n\n\nhttps://us06web.zoom.us/j/82924661732?pwd=D1JQMfIohP24eO4ujjaesftFT83Odb.1\nView map
URL:https://uwharriecharter.org/event/academic-excellence-meeting-8/
CATEGORIES:Board Meetings
END:VEVENT
BEGIN:VEVENT
DTSTART;TZID=America/Halifax:20260113T183000
DTEND;TZID=America/Halifax:20260113T193000
DTSTAMP:20260425T094010
CREATED:20260113T131242Z
LAST-MODIFIED:20260113T131242Z
UID:4757-1768329000-1768332600@uwharriecharter.org
SUMMARY:Executive Cabinet Meeting
DESCRIPTION:Join Zoom Meeting\nhttps://us06web.zoom.us/j/83754364013?pwd=6W2ajFPyn9dgGsmwgMAfq35CoAYU9Q.1Meeting ID: 837 5436 4013\nPasscode: 782221 \n— \nOne tap mobile\n+13052241968\,\,83754364013#\,\,\,\,*782221# US\n+13092053325\,\,83754364013#\,\,\,\,*782221# US \nJoin instructions\nhttps://us06web.zoom.us/meetings/83754364013/invitations?signature=Ea5iXqIdFtD3z7FnojgMGBwV0wBNofzy8Tk0p5MP-DI \n  \n\n\n\n\n\n \n\n\n\n\nWhen\n\n\n\n\nTuesday Jan 13\, 2026 ⋅ 6:30pm – 7:30pm (Eastern Time – New York) \n\n\n\n\n\n\n\n\n\nLocation\n\n\n\n\nhttps://us06web.zoom.us/j/83754364013?pwd=6W2ajFPyn9dgGsmwgMAfq35CoAYU9Q.1\nView map
URL:https://uwharriecharter.org/event/executive-cabinet-meeting-4/
CATEGORIES:Board Meetings
END:VEVENT
BEGIN:VEVENT
DTSTART;TZID=America/Halifax:20260115T190000
DTEND;TZID=America/Halifax:20260115T210000
DTSTAMP:20260425T094010
CREATED:20251028T082057Z
LAST-MODIFIED:20260115T203007Z
UID:4410-1768503600-1768510800@uwharriecharter.org
SUMMARY:Board of Directors Meeting
DESCRIPTION:
URL:https://uwharriecharter.org/event/board-of-directors-meeting-8/
CATEGORIES:Board Meetings
END:VEVENT
BEGIN:VEVENT
DTSTART;TZID=America/Halifax:20260203T160000
DTEND;TZID=America/Halifax:20260203T170000
DTSTAMP:20260425T094010
CREATED:20260202T182424Z
LAST-MODIFIED:20260202T182424Z
UID:4892-1770134400-1770138000@uwharriecharter.org
SUMMARY:Academic Excellence Meeting
DESCRIPTION:Join Zoom Meeting\nhttps://us06web.zoom.us/j/81933763064?pwd=mq3VlHL1XExizsfa4TRGzCX46sHSGY.1Meeting ID: 819 3376 3064\nPasscode: 819193 \n— \nOne tap mobile\n+16469313860\,\,81933763064#\,\,\,\,*819193# US\n+19294362866\,\,81933763064#\,\,\,\,*819193# US (New York) \nJoin instructions\nhttps://us06web.zoom.us/meetings/81933763064/invitations?signature=NhIDiKMZQq6ozz4UJmhwwuknHS9mMIzXNLqEAV3NT3k \n  \n\n\n\n\n\n \n\n\n\n\nWhen\n\n\n\n\nTuesday Feb 3\, 2026 ⋅ 4pm – 5pm (Eastern Time – New York)
URL:https://uwharriecharter.org/event/academic-excellence-meeting-9/
CATEGORIES:Board Meetings
END:VEVENT
BEGIN:VEVENT
DTSTART;TZID=America/Halifax:20260210T173000
DTEND;TZID=America/Halifax:20260210T183000
DTSTAMP:20260425T094010
CREATED:20260209T134412Z
LAST-MODIFIED:20260209T134412Z
UID:4921-1770744600-1770748200@uwharriecharter.org
SUMMARY:Executive Cabinet Meeting
DESCRIPTION:Join Zoom Meeting\nhttps://us06web.zoom.us/j/85620269262?pwd=ZpaxuvP8vc23n3cEbhr0GEvTFaSkqu.1Meeting ID: 856 2026 9262\nPasscode: 367039 \n— \nOne tap mobile\n+13017158592\,\,85620269262#\,\,\,\,*367039# US (Washington DC)\n+13052241968\,\,85620269262#\,\,\,\,*367039# US \nJoin instructions\nhttps://us06web.zoom.us/meetings/85620269262/invitations?signature=OtkxOt9Zq-x61q2USDuG2FobSKBFOGQLN7X8f4i6vjQ \n  \n\n\n\n\n\n \n\n\n\n\nWhen\n\n\n\n\nTuesday Feb 10\, 2026 ⋅ 5:30pm – 6:30pm (Eastern Time – New York)
URL:https://uwharriecharter.org/event/executive-cabinet-meeting-5/
CATEGORIES:Board Meetings
END:VEVENT
BEGIN:VEVENT
DTSTART;TZID=America/Halifax:20260212T180000
DTEND;TZID=America/Halifax:20260212T210000
DTSTAMP:20260425T094010
CREATED:20260209T134318Z
LAST-MODIFIED:20260209T134318Z
UID:4919-1770919200-1770930000@uwharriecharter.org
SUMMARY:Board of Directors Meeting
DESCRIPTION:Join Zoom Meeting\nhttps://us06web.zoom.us/j/88134706871?pwd=N20aoAvWOr51hypCEAPsFQ2kszsaVS.1Meeting ID: 881 3470 6871\nPasscode: 887069 \n— \nOne tap mobile\n+13052241968\,\,88134706871#\,\,\,\,*887069# US\n+13092053325\,\,88134706871#\,\,\,\,*887069# US \nJoin instructions\nhttps://us06web.zoom.us/meetings/88134706871/invitations?signature=rVtSgAPqcpxpkUe8LLhlxDaAu8J2SqDY5MYw5lC-b0Q \n  \n\n\n\n\n\n \n\n\n\n\nWhen\n\n\n\n\nThursday Feb 12\, 2026 ⋅ 6pm – 9pm (Eastern Time – New York) \n\n\n\n\n\n\n\n\n\nLocation\n\n\n\n\nhttps://us06web.zoom.us/j/88134706871?pwd=N20aoAvWOr51hypCEAPsFQ2kszsaVS.1\nView map
URL:https://uwharriecharter.org/event/board-of-directors-meeting-14/
CATEGORIES:Board Meetings
END:VEVENT
BEGIN:VEVENT
DTSTART;TZID=America/Halifax:20260303T160000
DTEND;TZID=America/Halifax:20260303T170000
DTSTAMP:20260425T094010
CREATED:20260302T193028Z
LAST-MODIFIED:20260302T193028Z
UID:5018-1772553600-1772557200@uwharriecharter.org
SUMMARY:Academic Excellence
DESCRIPTION:Join Zoom Meeting\nhttps://us06web.zoom.us/j/83890777662?pwd=ICmE0GFJ0DwfaRBiZBBMO8iJ1rbDsQ.1Meeting ID: 838 9077 7662\nPasscode: 731097 \n— \nOne tap mobile\n+13017158592\,\,83890777662#\,\,\,\,*731097# US (Washington DC)\n+13052241968\,\,83890777662#\,\,\,\,*731097# US \nJoin instructions\nhttps://us06web.zoom.us/meetings/83890777662/invitations?signature=Vit8egua9UX3qOLpTJdum6oslcvyvfGXrmmI54Ly_Jg \n  \n\n\n\n\n\n \n\n\n\n\nWhen\n\n\n\n\nTuesday Mar 3\, 2026 ⋅ 4pm – 5pm (Eastern Time – New York) \n\n\n\n\n\n\n\n\n\nLocation\n\n\n\n\nhttps://us06web.zoom.us/j/83890777662?pwd=ICmE0GFJ0DwfaRBiZBBMO8iJ1rbDsQ.1\nView map
URL:https://uwharriecharter.org/event/academic-excellence/
CATEGORIES:Board Meetings
END:VEVENT
BEGIN:VEVENT
DTSTART;TZID=America/Halifax:20260310T183000
DTEND;TZID=America/Halifax:20260310T193000
DTSTAMP:20260425T094010
CREATED:20260309T124536Z
LAST-MODIFIED:20260309T124536Z
UID:5038-1773167400-1773171000@uwharriecharter.org
SUMMARY:Executive Cabinet Meeting
DESCRIPTION:Join Zoom Meeting\nhttps://us06web.zoom.us/j/85246027749?pwd=6QD9ZiwAb4RxiDLAGyWv2NDaM9wLTa.1Meeting ID: 852 4602 7749\nPasscode: 128675 \n— \nOne tap mobile\n+13126266799\,\,85246027749#\,\,\,\,*128675# US (Chicago)\n+16469313860\,\,85246027749#\,\,\,\,*128675# US \nJoin instructions\nhttps://us06web.zoom.us/meetings/85246027749/invitations?signature=-b17KS2dC6BzaKzZrMnBo2Cqcu4xP7uX0X0upX8N7FU \n  \n\n\n\n\n\n \n\n\n\n\nWhen\n\n\n\n\nTuesday Mar 10\, 2026 ⋅ 6:30pm – 7:30pm (Eastern Time – New York) \n\n\n\n\n\n\n\n\n\nLocation\n\n\n\n\nhttps://us06web.zoom.us/j/85246027749?pwd=6QD9ZiwAb4RxiDLAGyWv2NDaM9wLTa.1\nView map
URL:https://uwharriecharter.org/event/executive-cabinet-meeting-6/
CATEGORIES:Board Meetings
END:VEVENT
BEGIN:VEVENT
DTSTART;TZID=America/Halifax:20260312T180000
DTEND;TZID=America/Halifax:20260312T200000
DTSTAMP:20260425T094010
CREATED:20251028T082059Z
LAST-MODIFIED:20260312T231503Z
UID:4412-1773338400-1773345600@uwharriecharter.org
SUMMARY:Board of Directors Meeting
DESCRIPTION:
URL:https://uwharriecharter.org/event/board-of-directors-meeting-10/
CATEGORIES:Board Meetings
END:VEVENT
BEGIN:VEVENT
DTSTART;TZID=America/Halifax:20260318T173000
DTEND;TZID=America/Halifax:20260318T183000
DTSTAMP:20260425T094010
CREATED:20260318T170957Z
LAST-MODIFIED:20260318T170957Z
UID:5114-1773855000-1773858600@uwharriecharter.org
SUMMARY:Governance Committee Meeting
DESCRIPTION:Join Zoom Meeting\nhttps://us06web.zoom.us/j/82686582118?pwd=1BmOy3oo9vJgitKLGFLUSELkQbJ1Ry.1Meeting ID: 826 8658 2118\nPasscode: 731020 \n— \nOne tap mobile\n+13092053325\,\,82686582118#\,\,\,\,*731020# US\n+13126266799\,\,82686582118#\,\,\,\,*731020# US (Chicago) \nJoin instructions\nhttps://us06web.zoom.us/meetings/82686582118/invitations?signature=EAejfy7OtOgScl_x18qq0qa98NS-ob4rusH_1BtRrz4 \n  \n\n\n\n\n\n \n\n\n\n\nWhen\n\n\n\n\nWednesday Mar 18\, 2026 ⋅ 5:30pm – 6:30pm (Eastern Time – New York) \n\n\n\n\n\n\n\n\n\nLocation\n\n\n\n\nhttps://us06web.zoom.us/j/82686582118?pwd=1BmOy3oo9vJgitKLGFLUSELkQbJ1Ry.1\nView map
URL:https://uwharriecharter.org/event/governance-committee-meeting-8/
CATEGORIES:Board Meetings
END:VEVENT
BEGIN:VEVENT
DTSTART;TZID=America/Halifax:20260414T160000
DTEND;TZID=America/Halifax:20260414T170000
DTSTAMP:20260425T094010
CREATED:20260323T160538Z
LAST-MODIFIED:20260323T160538Z
UID:5122-1776182400-1776186000@uwharriecharter.org
SUMMARY:Academic Excellence Meeting
DESCRIPTION:Join Zoom Meeting\nhttps://us06web.zoom.us/j/81364541494?pwd=PyvvCRueOgTnTJGZfZ8govPRcoYmhp.1Meeting ID: 813 6454 1494\nPasscode: 295784 \n— \nOne tap mobile\n+13092053325\,\,81364541494#\,\,\,\,*295784# US\n+13126266799\,\,81364541494#\,\,\,\,*295784# US (Chicago) \nJoin instructions\nhttps://us06web.zoom.us/meetings/81364541494/invitations?signature=ThXUEPbvwpN6VqPT_qyaVKa7iLoX5SPdvFNCJmOe3jI \n  \n\n\n\n\n\n \n\n\n\n\nWhen\n\n\n\n\n\n\nTuesday Apr 14\, 2026 ⋅ 4pm – 5pm (Eastern Time – New York) \n\n\n\n\n\n\n\n\n\n\nLocation\n\n\n\n\nhttps://us06web.zoom.us/j/81364541494?pwd=PyvvCRueOgTnTJGZfZ8govPRcoYmhp.1\nView map
URL:https://uwharriecharter.org/event/academic-excellence-meeting-10/
CATEGORIES:Board Meetings
END:VEVENT
BEGIN:VEVENT
DTSTART;TZID=America/Halifax:20260424T140000
DTEND;TZID=America/Halifax:20260424T150000
DTSTAMP:20260425T094010
CREATED:20260424T125303Z
LAST-MODIFIED:20260424T125303Z
UID:5207-1777039200-1777042800@uwharriecharter.org
SUMMARY:Called Board Board Meeting
DESCRIPTION:Join Zoom Meeting\nhttps://us06web.zoom.us/j/89437041354?pwd=bwNglNSmaNvarqgGxTbTzrzDab3Lhy.1Meeting ID: 894 3704 1354\nPasscode: 283069 \n— \nOne tap mobile\n+13017158592\,\,89437041354#\,\,\,\,*283069# US (Washington DC)\n+13052241968\,\,89437041354#\,\,\,\,*283069# US \n— \nJoin by SIP\n• 89437041354@zoomcrc.com \nJoin instructions\nhttps://us06web.zoom.us/meetings/89437041354/invitations?signature=e4fCoEuqAaK_rxt0Qpesom_gYfGDmRvZPzKZOtclF_w \n  \n\n\n\n\n\n \n\n\n\n\nWhen\n\n\n\n\nFriday Apr 24\, 2026 ⋅ 2pm – 3pm (Eastern Time – New York) \n\n\n\n\n\n\n\n\n\nLocation\n\n\n\n\nhttps://us06web.zoom.us/j/89437041354?pwd=bwNglNSmaNvarqgGxTbTzrzDab3Lhy.1\nView map
URL:https://uwharriecharter.org/event/called-board-board-meeting/
CATEGORIES:Board Meetings
END:VEVENT
END:VCALENDAR