BEGIN:VCALENDAR
VERSION:2.0
PRODID:-//Uwharrie Charter Academy - ECPv6.15.15//NONSGML v1.0//EN
CALSCALE:GREGORIAN
METHOD:PUBLISH
X-WR-CALNAME:Uwharrie Charter Academy
X-ORIGINAL-URL:https://uwharriecharter.org
X-WR-CALDESC:Events for Uwharrie Charter Academy
REFRESH-INTERVAL;VALUE=DURATION:PT1H
X-Robots-Tag:noindex
X-PUBLISHED-TTL:PT1H
BEGIN:VTIMEZONE
TZID:America/Halifax
BEGIN:DAYLIGHT
TZOFFSETFROM:-0400
TZOFFSETTO:-0300
TZNAME:ADT
DTSTART:20250309T060000
END:DAYLIGHT
BEGIN:STANDARD
TZOFFSETFROM:-0300
TZOFFSETTO:-0400
TZNAME:AST
DTSTART:20251102T050000
END:STANDARD
BEGIN:DAYLIGHT
TZOFFSETFROM:-0400
TZOFFSETTO:-0300
TZNAME:ADT
DTSTART:20260308T060000
END:DAYLIGHT
BEGIN:STANDARD
TZOFFSETFROM:-0300
TZOFFSETTO:-0400
TZNAME:AST
DTSTART:20261101T050000
END:STANDARD
BEGIN:DAYLIGHT
TZOFFSETFROM:-0400
TZOFFSETTO:-0300
TZNAME:ADT
DTSTART:20270314T060000
END:DAYLIGHT
BEGIN:STANDARD
TZOFFSETFROM:-0300
TZOFFSETTO:-0400
TZNAME:AST
DTSTART:20271107T050000
END:STANDARD
END:VTIMEZONE
BEGIN:VEVENT
DTSTART;TZID=America/Halifax:20260318T173000
DTEND;TZID=America/Halifax:20260318T183000
DTSTAMP:20260424T004322
CREATED:20260318T170957Z
LAST-MODIFIED:20260318T170957Z
UID:5114-1773855000-1773858600@uwharriecharter.org
SUMMARY:Governance Committee Meeting
DESCRIPTION:Join Zoom Meeting\nhttps://us06web.zoom.us/j/82686582118?pwd=1BmOy3oo9vJgitKLGFLUSELkQbJ1Ry.1Meeting ID: 826 8658 2118\nPasscode: 731020 \n— \nOne tap mobile\n+13092053325\,\,82686582118#\,\,\,\,*731020# US\n+13126266799\,\,82686582118#\,\,\,\,*731020# US (Chicago) \nJoin instructions\nhttps://us06web.zoom.us/meetings/82686582118/invitations?signature=EAejfy7OtOgScl_x18qq0qa98NS-ob4rusH_1BtRrz4 \n  \n\n\n\n\n\n \n\n\n\n\nWhen\n\n\n\n\nWednesday Mar 18\, 2026 ⋅ 5:30pm – 6:30pm (Eastern Time – New York) \n\n\n\n\n\n\n\n\n\nLocation\n\n\n\n\nhttps://us06web.zoom.us/j/82686582118?pwd=1BmOy3oo9vJgitKLGFLUSELkQbJ1Ry.1\nView map
URL:https://uwharriecharter.org/event/governance-committee-meeting-8/
CATEGORIES:Board Meetings
END:VEVENT
END:VCALENDAR