BEGIN:VCALENDAR
VERSION:2.0
PRODID:-//Uwharrie Charter Academy - ECPv6.15.15//NONSGML v1.0//EN
CALSCALE:GREGORIAN
METHOD:PUBLISH
X-WR-CALNAME:Uwharrie Charter Academy
X-ORIGINAL-URL:https://uwharriecharter.org
X-WR-CALDESC:Events for Uwharrie Charter Academy
REFRESH-INTERVAL;VALUE=DURATION:PT1H
X-Robots-Tag:noindex
X-PUBLISHED-TTL:PT1H
BEGIN:VTIMEZONE
TZID:America/Halifax
BEGIN:DAYLIGHT
TZOFFSETFROM:-0400
TZOFFSETTO:-0300
TZNAME:ADT
DTSTART:20250309T060000
END:DAYLIGHT
BEGIN:STANDARD
TZOFFSETFROM:-0300
TZOFFSETTO:-0400
TZNAME:AST
DTSTART:20251102T050000
END:STANDARD
BEGIN:DAYLIGHT
TZOFFSETFROM:-0400
TZOFFSETTO:-0300
TZNAME:ADT
DTSTART:20260308T060000
END:DAYLIGHT
BEGIN:STANDARD
TZOFFSETFROM:-0300
TZOFFSETTO:-0400
TZNAME:AST
DTSTART:20261101T050000
END:STANDARD
BEGIN:DAYLIGHT
TZOFFSETFROM:-0400
TZOFFSETTO:-0300
TZNAME:ADT
DTSTART:20270314T060000
END:DAYLIGHT
BEGIN:STANDARD
TZOFFSETFROM:-0300
TZOFFSETTO:-0400
TZNAME:AST
DTSTART:20271107T050000
END:STANDARD
END:VTIMEZONE
BEGIN:VEVENT
DTSTART;TZID=America/Halifax:20260210T173000
DTEND;TZID=America/Halifax:20260210T183000
DTSTAMP:20260424T021726
CREATED:20260209T134412Z
LAST-MODIFIED:20260209T134412Z
UID:4921-1770744600-1770748200@uwharriecharter.org
SUMMARY:Executive Cabinet Meeting
DESCRIPTION:Join Zoom Meeting\nhttps://us06web.zoom.us/j/85620269262?pwd=ZpaxuvP8vc23n3cEbhr0GEvTFaSkqu.1Meeting ID: 856 2026 9262\nPasscode: 367039 \n— \nOne tap mobile\n+13017158592\,\,85620269262#\,\,\,\,*367039# US (Washington DC)\n+13052241968\,\,85620269262#\,\,\,\,*367039# US \nJoin instructions\nhttps://us06web.zoom.us/meetings/85620269262/invitations?signature=OtkxOt9Zq-x61q2USDuG2FobSKBFOGQLN7X8f4i6vjQ \n  \n\n\n\n\n\n \n\n\n\n\nWhen\n\n\n\n\nTuesday Feb 10\, 2026 ⋅ 5:30pm – 6:30pm (Eastern Time – New York)
URL:https://uwharriecharter.org/event/executive-cabinet-meeting-5/
CATEGORIES:Board Meetings
END:VEVENT
END:VCALENDAR