BEGIN:VCALENDAR
VERSION:2.0
PRODID:-//Uwharrie Charter Academy - ECPv6.15.15//NONSGML v1.0//EN
CALSCALE:GREGORIAN
METHOD:PUBLISH
X-WR-CALNAME:Uwharrie Charter Academy
X-ORIGINAL-URL:https://uwharriecharter.org
X-WR-CALDESC:Events for Uwharrie Charter Academy
REFRESH-INTERVAL;VALUE=DURATION:PT1H
X-Robots-Tag:noindex
X-PUBLISHED-TTL:PT1H
BEGIN:VTIMEZONE
TZID:America/Halifax
BEGIN:DAYLIGHT
TZOFFSETFROM:-0400
TZOFFSETTO:-0300
TZNAME:ADT
DTSTART:20250309T060000
END:DAYLIGHT
BEGIN:STANDARD
TZOFFSETFROM:-0300
TZOFFSETTO:-0400
TZNAME:AST
DTSTART:20251102T050000
END:STANDARD
BEGIN:DAYLIGHT
TZOFFSETFROM:-0400
TZOFFSETTO:-0300
TZNAME:ADT
DTSTART:20260308T060000
END:DAYLIGHT
BEGIN:STANDARD
TZOFFSETFROM:-0300
TZOFFSETTO:-0400
TZNAME:AST
DTSTART:20261101T050000
END:STANDARD
BEGIN:DAYLIGHT
TZOFFSETFROM:-0400
TZOFFSETTO:-0300
TZNAME:ADT
DTSTART:20270314T060000
END:DAYLIGHT
BEGIN:STANDARD
TZOFFSETFROM:-0300
TZOFFSETTO:-0400
TZNAME:AST
DTSTART:20271107T050000
END:STANDARD
END:VTIMEZONE
BEGIN:VEVENT
DTSTART;TZID=America/Halifax:20260203T160000
DTEND;TZID=America/Halifax:20260203T170000
DTSTAMP:20260424T025516
CREATED:20260202T182424Z
LAST-MODIFIED:20260202T182424Z
UID:4892-1770134400-1770138000@uwharriecharter.org
SUMMARY:Academic Excellence Meeting
DESCRIPTION:Join Zoom Meeting\nhttps://us06web.zoom.us/j/81933763064?pwd=mq3VlHL1XExizsfa4TRGzCX46sHSGY.1Meeting ID: 819 3376 3064\nPasscode: 819193 \n— \nOne tap mobile\n+16469313860\,\,81933763064#\,\,\,\,*819193# US\n+19294362866\,\,81933763064#\,\,\,\,*819193# US (New York) \nJoin instructions\nhttps://us06web.zoom.us/meetings/81933763064/invitations?signature=NhIDiKMZQq6ozz4UJmhwwuknHS9mMIzXNLqEAV3NT3k \n  \n\n\n\n\n\n \n\n\n\n\nWhen\n\n\n\n\nTuesday Feb 3\, 2026 ⋅ 4pm – 5pm (Eastern Time – New York)
URL:https://uwharriecharter.org/event/academic-excellence-meeting-9/
CATEGORIES:Board Meetings
END:VEVENT
END:VCALENDAR