BEGIN:VCALENDAR
VERSION:2.0
PRODID:-//Uwharrie Charter Academy - ECPv6.15.15//NONSGML v1.0//EN
CALSCALE:GREGORIAN
METHOD:PUBLISH
X-ORIGINAL-URL:https://uwharriecharter.org
X-WR-CALDESC:Events for Uwharrie Charter Academy
REFRESH-INTERVAL;VALUE=DURATION:PT1H
X-Robots-Tag:noindex
X-PUBLISHED-TTL:PT1H
BEGIN:VTIMEZONE
TZID:America/Halifax
BEGIN:DAYLIGHT
TZOFFSETFROM:-0400
TZOFFSETTO:-0300
TZNAME:ADT
DTSTART:20240310T060000
END:DAYLIGHT
BEGIN:STANDARD
TZOFFSETFROM:-0300
TZOFFSETTO:-0400
TZNAME:AST
DTSTART:20241103T050000
END:STANDARD
BEGIN:DAYLIGHT
TZOFFSETFROM:-0400
TZOFFSETTO:-0300
TZNAME:ADT
DTSTART:20250309T060000
END:DAYLIGHT
BEGIN:STANDARD
TZOFFSETFROM:-0300
TZOFFSETTO:-0400
TZNAME:AST
DTSTART:20251102T050000
END:STANDARD
BEGIN:DAYLIGHT
TZOFFSETFROM:-0400
TZOFFSETTO:-0300
TZNAME:ADT
DTSTART:20260308T060000
END:DAYLIGHT
BEGIN:STANDARD
TZOFFSETFROM:-0300
TZOFFSETTO:-0400
TZNAME:AST
DTSTART:20261101T050000
END:STANDARD
END:VTIMEZONE
BEGIN:VEVENT
DTSTART;TZID=America/Halifax:20251007T183000
DTEND;TZID=America/Halifax:20251007T193000
DTSTAMP:20260424T083318
CREATED:20251006T183622Z
LAST-MODIFIED:20251006T183622Z
UID:4354-1759861800-1759865400@uwharriecharter.org
SUMMARY:Executive Cabinet Meeting
DESCRIPTION:Join Zoom Meeting\nhttps://us06web.zoom.us/j/82192102041?pwd=6iJeSJXHB40eBhyTrc4TZAOHEgmlgZ.1Meeting ID: 821 9210 2041\nPasscode: 510994 \n— \nOne tap mobile\n+13126266799\,\,82192102041#\,\,\,\,*510994# US (Chicago)\n+16469313860\,\,82192102041#\,\,\,\,*510994# US \nJoin instructions\nhttps://us06web.zoom.us/meetings/82192102041/invitations?signature=iQdj43UzuBPnuTUQ2Ai9kQAoOmd63V_qgysBxfyMAKo \n\n\n\n\n\n \n\n\n\n\nWhen\n\n\n\n\nTuesday Oct 7\, 2025 ⋅ 6:30pm – 7:30pm (Eastern Time – New York) \n\n\n\n\n\n\n\n\n\nLocation\n\n\n\n\nhttps://us06web.zoom.us/j/82192102041?pwd=6iJeSJXHB40eBhyTrc4TZAOHEgmlgZ.1\nView map
URL:https://uwharriecharter.org/event/executive-cabinet-meeting-2/
CATEGORIES:Board Meetings
END:VEVENT
END:VCALENDAR