BEGIN:VCALENDAR
VERSION:2.0
PRODID:-//Uwharrie Charter Academy - ECPv6.15.15//NONSGML v1.0//EN
CALSCALE:GREGORIAN
METHOD:PUBLISH
X-ORIGINAL-URL:https://uwharriecharter.org
X-WR-CALDESC:Events for Uwharrie Charter Academy
REFRESH-INTERVAL;VALUE=DURATION:PT1H
X-Robots-Tag:noindex
X-PUBLISHED-TTL:PT1H
BEGIN:VTIMEZONE
TZID:America/Halifax
BEGIN:DAYLIGHT
TZOFFSETFROM:-0400
TZOFFSETTO:-0300
TZNAME:ADT
DTSTART:20240310T060000
END:DAYLIGHT
BEGIN:STANDARD
TZOFFSETFROM:-0300
TZOFFSETTO:-0400
TZNAME:AST
DTSTART:20241103T050000
END:STANDARD
BEGIN:DAYLIGHT
TZOFFSETFROM:-0400
TZOFFSETTO:-0300
TZNAME:ADT
DTSTART:20250309T060000
END:DAYLIGHT
BEGIN:STANDARD
TZOFFSETFROM:-0300
TZOFFSETTO:-0400
TZNAME:AST
DTSTART:20251102T050000
END:STANDARD
BEGIN:DAYLIGHT
TZOFFSETFROM:-0400
TZOFFSETTO:-0300
TZNAME:ADT
DTSTART:20260308T060000
END:DAYLIGHT
BEGIN:STANDARD
TZOFFSETFROM:-0300
TZOFFSETTO:-0400
TZNAME:AST
DTSTART:20261101T050000
END:STANDARD
END:VTIMEZONE
BEGIN:VEVENT
DTSTART;TZID=America/Halifax:20250930T160000
DTEND;TZID=America/Halifax:20250930T180000
DTSTAMP:20260424T083410
CREATED:20250925T161757Z
LAST-MODIFIED:20250925T161757Z
UID:4316-1759248000-1759255200@uwharriecharter.org
SUMMARY:Academic Excellence Meeting
DESCRIPTION:Join Zoom Meeting\nhttps://us06web.zoom.us/j/86292042770?pwd=jwTi8E6vG8TZB6I2pblL6JqL6SZCbH.1Meeting ID: 862 9204 2770\nPasscode: 732336 \n— \nOne tap mobile\n+16469313860\,\,86292042770#\,\,\,\,*732336# US\n+19294362866\,\,86292042770#\,\,\,\,*732336# US (New York) \nJoin instructions\nhttps://us06web.zoom.us/meetings/86292042770/invitations?signature=SykLvAhudqKCr6780VsfIgqo5X3braCvZJKVLx3q3B8 \n\n\n\n\n\n \n\n\n\n\nWhen\n\n\n\n\nTuesday Sep 30\, 2025 ⋅ 4pm – 6pm (Eastern Time – New York) \n\n\n\n\n\n\n\n\n\nLocation\n\n\n\n\nhttps://us06web.zoom.us/j/86292042770?pwd=jwTi8E6vG8TZB6I2pblL6JqL6SZCbH.1\nView map
URL:https://uwharriecharter.org/event/academic-excellence-meeting-6/
CATEGORIES:Board Meetings
END:VEVENT
END:VCALENDAR