BEGIN:VCALENDAR
VERSION:2.0
PRODID:-//Uwharrie Charter Academy - ECPv6.15.15//NONSGML v1.0//EN
CALSCALE:GREGORIAN
METHOD:PUBLISH
X-ORIGINAL-URL:https://uwharriecharter.org
X-WR-CALDESC:Events for Uwharrie Charter Academy
REFRESH-INTERVAL;VALUE=DURATION:PT1H
X-Robots-Tag:noindex
X-PUBLISHED-TTL:PT1H
BEGIN:VTIMEZONE
TZID:America/Halifax
BEGIN:DAYLIGHT
TZOFFSETFROM:-0400
TZOFFSETTO:-0300
TZNAME:ADT
DTSTART:20240310T060000
END:DAYLIGHT
BEGIN:STANDARD
TZOFFSETFROM:-0300
TZOFFSETTO:-0400
TZNAME:AST
DTSTART:20241103T050000
END:STANDARD
BEGIN:DAYLIGHT
TZOFFSETFROM:-0400
TZOFFSETTO:-0300
TZNAME:ADT
DTSTART:20250309T060000
END:DAYLIGHT
BEGIN:STANDARD
TZOFFSETFROM:-0300
TZOFFSETTO:-0400
TZNAME:AST
DTSTART:20251102T050000
END:STANDARD
BEGIN:DAYLIGHT
TZOFFSETFROM:-0400
TZOFFSETTO:-0300
TZNAME:ADT
DTSTART:20260308T060000
END:DAYLIGHT
BEGIN:STANDARD
TZOFFSETFROM:-0300
TZOFFSETTO:-0400
TZNAME:AST
DTSTART:20261101T050000
END:STANDARD
END:VTIMEZONE
BEGIN:VEVENT
DTSTART;TZID=America/Halifax:20250918T173000
DTEND;TZID=America/Halifax:20250918T183000
DTSTAMP:20260424T105841
CREATED:20250915T185128Z
LAST-MODIFIED:20250916T200929Z
UID:4287-1758216600-1758220200@uwharriecharter.org
SUMMARY:Governance Committee Meeting
DESCRIPTION:Join Zoom Meeting\nhttps://us06web.zoom.us/j/81445471707?pwd=cmboXSb8QqSk8Tx1FqGxUKwR9JBfGb.1Meeting ID: 814 4547 1707\nPasscode: 074605— \nOne tap mobile\n+13126266799\,\,81445471707#\,\,\,\,*074605# US (Chicago)\n+16469313860\,\,81445471707#\,\,\,\,*074605# US \nJoin instructions\nhttps://us06web.zoom.us/meetings/81445471707/invitations?signature=8usx38vkmrPGW0PLmdm4Lq5E2cgJQ5C_fcNXeRpBZy4 \n\n\n\n\n\n\n\n\n\n\nWhen\n\n\n\n\nThursday Sep 18\, 2025 ⋅ 5:30pm – 6:30pm (Eastern Time – New York) \n\n\n\n\n\n\n\n\n\n\nLocation\n\n\n\n\nhttps://us06web.zoom.us/j/81445471707?pwd=cmboXSb8QqSk8Tx1FqGxUKwR9JBfGb.1\nView map
URL:https://uwharriecharter.org/event/governance-committee-meeting-5/
CATEGORIES:Board Meetings
END:VEVENT
END:VCALENDAR