BEGIN:VCALENDAR
VERSION:2.0
PRODID:-//Uwharrie Charter Academy - ECPv6.15.15//NONSGML v1.0//EN
CALSCALE:GREGORIAN
METHOD:PUBLISH
X-WR-CALNAME:Uwharrie Charter Academy
X-ORIGINAL-URL:https://uwharriecharter.org
X-WR-CALDESC:Events for Uwharrie Charter Academy
REFRESH-INTERVAL;VALUE=DURATION:PT1H
X-Robots-Tag:noindex
X-PUBLISHED-TTL:PT1H
BEGIN:VTIMEZONE
TZID:America/Halifax
BEGIN:DAYLIGHT
TZOFFSETFROM:-0400
TZOFFSETTO:-0300
TZNAME:ADT
DTSTART:20240310T060000
END:DAYLIGHT
BEGIN:STANDARD
TZOFFSETFROM:-0300
TZOFFSETTO:-0400
TZNAME:AST
DTSTART:20241103T050000
END:STANDARD
BEGIN:DAYLIGHT
TZOFFSETFROM:-0400
TZOFFSETTO:-0300
TZNAME:ADT
DTSTART:20250309T060000
END:DAYLIGHT
BEGIN:STANDARD
TZOFFSETFROM:-0300
TZOFFSETTO:-0400
TZNAME:AST
DTSTART:20251102T050000
END:STANDARD
BEGIN:DAYLIGHT
TZOFFSETFROM:-0400
TZOFFSETTO:-0300
TZNAME:ADT
DTSTART:20260308T060000
END:DAYLIGHT
BEGIN:STANDARD
TZOFFSETFROM:-0300
TZOFFSETTO:-0400
TZNAME:AST
DTSTART:20261101T050000
END:STANDARD
END:VTIMEZONE
BEGIN:VEVENT
DTSTART;TZID=America/Halifax:20250304T160000
DTEND;TZID=America/Halifax:20250304T180000
DTSTAMP:20260424T225117
CREATED:20250304T154316Z
LAST-MODIFIED:20250304T154402Z
UID:3360-1741104000-1741111200@uwharriecharter.org
SUMMARY:Academic Excellence Meeting
DESCRIPTION:Join Zoom Meeting\nhttps://us06web.zoom.us/j/88012629277?pwd=eb5wHmsqdIVWyVrOP7MXccXxSFOwwk.1Meeting ID: 880 1262 9277\nPasscode: 417779— \nOne tap mobile\n+19294362866\,\,88012629277#\,\,\,\,*417779# US (New York)\n+13017158592\,\,88012629277#\,\,\,\,*417779# US (Washington DC) \n— \nDial by your location\n• +1 929 436 2866 US (New York)\n• +1 301 715 8592 US (Washington DC)\n• +1 305 224 1968 US\n• +1 309 205 3325 US\n• +1 312 626 6799 US (Chicago)\n• +1 646 931 3860 US\n• +1 719 359 4580 US\n• +1 253 205 0468 US\n• +1 253 215 8782 US (Tacoma)\n• +1 346 248 7799 US (Houston)\n• +1 360 209 5623 US\n• +1 386 347 5053 US\n• +1 507 473 4847 US\n• +1 564 217 2000 US\n• +1 669 444 9171 US\n• +1 669 900 6833 US (San Jose)\n• +1 689 278 1000 US \nMeeting ID: 880 1262 9277\nPasscode: 417779 \nFind your local number: https://us06web.zoom.us/u/kerXjIi8ea \n  \n\n\n\n\n\n\n  \n\n\n\n\nWhen\n\n\n\n\nTuesday Mar 4\, 2025 ⋅ 4pm – 6pm (Eastern Time – New York) \n\n\n\n\n\n\n\n\n\n\nLocation\n\n\n\n\nhttps://us06web.zoom.us/j/88012629277?pwd=eb5wHmsqdIVWyVrOP7MXccXxSFOwwk.1\nView map
URL:https://uwharriecharter.org/event/academic-excellence-meeting-3/
CATEGORIES:Board Meetings
END:VEVENT
BEGIN:VEVENT
DTSTART;TZID=America/Halifax:20250311T183000
DTEND;TZID=America/Halifax:20250311T203000
DTSTAMP:20260424T225117
CREATED:20250310T130720Z
LAST-MODIFIED:20250310T130720Z
UID:3381-1741717800-1741725000@uwharriecharter.org
SUMMARY:Executive Cabinet Meeting
DESCRIPTION:Join Zoom Meeting\nhttps://us06web.zoom.us/j/87124805664?pwd=lB6woHO2IaaCV0WUrWBN78YjCqg8sO.1Meeting ID: 871 2480 5664\nPasscode: 245498 \n— \nOne tap mobile\n+13017158592\,\,87124805664#\,\,\,\,*245498# US (Washington DC)\n+13052241968\,\,87124805664#\,\,\,\,*245498# US \n— \nDial by your location\n• +1 301 715 8592 US (Washington DC)\n• +1 305 224 1968 US\n• +1 309 205 3325 US\n• +1 312 626 6799 US (Chicago)\n• +1 646 931 3860 US\n• +1 929 436 2866 US (New York)\n• +1 507 473 4847 US\n• +1 564 217 2000 US\n• +1 669 444 9171 US\n• +1 669 900 6833 US (San Jose)\n• +1 689 278 1000 US\n• +1 719 359 4580 US\n• +1 253 205 0468 US\n• +1 253 215 8782 US (Tacoma)\n• +1 346 248 7799 US (Houston)\n• +1 360 209 5623 US\n• +1 386 347 5053 US \nMeeting ID: 871 2480 5664\nPasscode: 245498 \nFind your local number: https://us06web.zoom.us/u/k0S3vr5BA \n  \n\n\n\n\n\n \n\n\n\n\nWhen\n\n\n\n\nTuesday Mar 11\, 2025 ⋅ 6:30pm – 8:30pm (Eastern Time – New York) \n\n\n\n\n\n\n\n\n\nLocation\n\n\n\n\nhttps://us06web.zoom.us/j/87124805664?pwd=lB6woHO2IaaCV0WUrWBN78YjCqg8sO.1\nView map
URL:https://uwharriecharter.org/event/executive-cabinet-meeting/
CATEGORIES:Board Meetings
END:VEVENT
BEGIN:VEVENT
DTSTART;TZID=America/Halifax:20250313T183000
DTEND;TZID=America/Halifax:20250313T203000
DTSTAMP:20260424T225117
CREATED:20250313T222308Z
LAST-MODIFIED:20250313T222308Z
UID:3391-1741890600-1741897800@uwharriecharter.org
SUMMARY:Board of Directors Meeting
DESCRIPTION:Sharon Castelli is inviting you to a scheduled Zoom meeting.\nJoin Zoom Meeting\nhttps://us06web.zoom.us/j/89893219270?pwd=DIC1jk5acarvuVDAJ1lgpla1q0LMDC.1Meeting ID: 898 9321 9270\nPasscode: 815422 \n— \nOne tap mobile\n+13092053325\,\,89893219270#\,\,\,\,*815422# US\n+13126266799\,\,89893219270#\,\,\,\,*815422# US (Chicago) \n— \nDial by your location\n• +1 309 205 3325 US\n• +1 312 626 6799 US (Chicago)\n• +1 646 931 3860 US\n• +1 929 436 2866 US (New York)\n• +1 301 715 8592 US (Washington DC)\n• +1 305 224 1968 US\n• +1 360 209 5623 US\n• +1 386 347 5053 US\n• +1 507 473 4847 US\n• +1 564 217 2000 US\n• +1 669 444 9171 US\n• +1 669 900 6833 US (San Jose)\n• +1 689 278 1000 US\n• +1 719 359 4580 US\n• +1 253 205 0468 US\n• +1 253 215 8782 US (Tacoma)\n• +1 346 248 7799 US (Houston) \nMeeting ID: 898 9321 9270\nPasscode: 815422 \nFind your local number: https://us06web.zoom.us/u/kcSHZU9Ixe \n  \n\n\n\n\n\n \n\n\n\n\nWhen\n\n\n\n\nThursday Mar 13\, 2025 ⋅ 6:30pm – 8:30pm (Eastern Time – New York) \n\n\n\n\n\n\n\n\n\nLocation\n\n\n\n\nhttps://us06web.zoom.us/j/89893219270?pwd=DIC1jk5acarvuVDAJ1lgpla1q0LMDC.1\nView map
URL:https://uwharriecharter.org/event/board-of-directors-meeting/
CATEGORIES:Board Meetings
END:VEVENT
END:VCALENDAR