BEGIN:VCALENDAR
VERSION:2.0
PRODID:-//Uwharrie Charter Academy - ECPv6.15.15//NONSGML v1.0//EN
CALSCALE:GREGORIAN
METHOD:PUBLISH
X-WR-CALNAME:Uwharrie Charter Academy
X-ORIGINAL-URL:https://uwharriecharter.org
X-WR-CALDESC:Events for Uwharrie Charter Academy
REFRESH-INTERVAL;VALUE=DURATION:PT1H
X-Robots-Tag:noindex
X-PUBLISHED-TTL:PT1H
BEGIN:VTIMEZONE
TZID:America/Halifax
BEGIN:DAYLIGHT
TZOFFSETFROM:-0400
TZOFFSETTO:-0300
TZNAME:ADT
DTSTART:20230312T060000
END:DAYLIGHT
BEGIN:STANDARD
TZOFFSETFROM:-0300
TZOFFSETTO:-0400
TZNAME:AST
DTSTART:20231105T050000
END:STANDARD
BEGIN:DAYLIGHT
TZOFFSETFROM:-0400
TZOFFSETTO:-0300
TZNAME:ADT
DTSTART:20240310T060000
END:DAYLIGHT
BEGIN:STANDARD
TZOFFSETFROM:-0300
TZOFFSETTO:-0400
TZNAME:AST
DTSTART:20241103T050000
END:STANDARD
BEGIN:DAYLIGHT
TZOFFSETFROM:-0400
TZOFFSETTO:-0300
TZNAME:ADT
DTSTART:20250309T060000
END:DAYLIGHT
BEGIN:STANDARD
TZOFFSETFROM:-0300
TZOFFSETTO:-0400
TZNAME:AST
DTSTART:20251102T050000
END:STANDARD
END:VTIMEZONE
BEGIN:VEVENT
DTSTART;VALUE=DATE:20241122
DTEND;VALUE=DATE:20241125
DTSTAMP:20260424T002509
CREATED:20240905T173315Z
LAST-MODIFIED:20241105T135313Z
UID:1808-1732237200-1732409999@uwharriecharter.org
SUMMARY:Men's Soccer - State Championsihp
DESCRIPTION:
URL:https://uwharriecharter.org/event/mens-soccer-state-championsihp/
CATEGORIES:Athletics,Soccer
END:VEVENT
BEGIN:VEVENT
DTSTART;VALUE=DATE:20241119
DTEND;VALUE=DATE:20241121
DTSTAMP:20260424T002509
CREATED:20240905T173315Z
LAST-MODIFIED:20241105T135313Z
UID:1807-1731978000-1732064399@uwharriecharter.org
SUMMARY:Men's Soccer - Regionals
DESCRIPTION:
URL:https://uwharriecharter.org/event/mens-soccer-regionals/
CATEGORIES:Athletics,Soccer
END:VEVENT
BEGIN:VEVENT
DTSTART;VALUE=DATE:20241114
DTEND;VALUE=DATE:20241116
DTSTAMP:20260424T002509
CREATED:20240905T173315Z
LAST-MODIFIED:20241105T135312Z
UID:1806-1731546000-1731632399@uwharriecharter.org
SUMMARY:Men's Soccer - 4th Round Playoffs
DESCRIPTION:
URL:https://uwharriecharter.org/event/mens-soccer-4th-round-playoffs/
CATEGORIES:Athletics,Soccer
END:VEVENT
BEGIN:VEVENT
DTSTART;VALUE=DATE:20241111
DTEND;VALUE=DATE:20241113
DTSTAMP:20260424T002509
CREATED:20240905T173315Z
LAST-MODIFIED:20241105T135312Z
UID:1804-1731286800-1731373199@uwharriecharter.org
SUMMARY:Men's Soccer - 3rd Round Playoffs
DESCRIPTION:
URL:https://uwharriecharter.org/event/mens-soccer-3rd-round-playoffs/
CATEGORIES:Athletics,Soccer
END:VEVENT
BEGIN:VEVENT
DTSTART;VALUE=DATE:20241109
DTEND;VALUE=DATE:20241111
DTSTAMP:20260424T002509
CREATED:20240905T173315Z
LAST-MODIFIED:20241108T093805Z
UID:1802-1731114000-1731200399@uwharriecharter.org
SUMMARY:Men's Soccer - 1st Round Playoffs
DESCRIPTION:
URL:https://uwharriecharter.org/event/mens-soccer-1st-round-playoffs/
CATEGORIES:Athletics,Soccer
END:VEVENT
BEGIN:VEVENT
DTSTART;VALUE=DATE:20241107
DTEND;VALUE=DATE:20241109
DTSTAMP:20260424T002509
CREATED:20240905T173315Z
LAST-MODIFIED:20241105T135312Z
UID:1803-1730941200-1731027599@uwharriecharter.org
SUMMARY:Men's Soccer - 2nd Round Playoffs
DESCRIPTION:
URL:https://uwharriecharter.org/event/mens-soccer-2nd-round-playoffs/
CATEGORIES:Athletics,Soccer
END:VEVENT
BEGIN:VEVENT
DTSTART;TZID=America/Halifax:20241029T180000
DTEND;TZID=America/Halifax:20241029T190000
DTSTAMP:20260424T002509
CREATED:20240905T173314Z
LAST-MODIFIED:20241029T032522Z
UID:1796-1730224800-1730228400@uwharriecharter.org
SUMMARY:Men's Soccer @ Southwestern Randolph
DESCRIPTION:
URL:https://uwharriecharter.org/event/mens-soccer-southwestern-randolph/
CATEGORIES:Athletics,Soccer
END:VEVENT
BEGIN:VEVENT
DTSTART;TZID=America/Halifax:20241028T180000
DTEND;TZID=America/Halifax:20241028T190000
DTSTAMP:20260424T002509
CREATED:20240905T173314Z
LAST-MODIFIED:20241028T021454Z
UID:1794-1730138400-1730142000@uwharriecharter.org
SUMMARY:Men's Soccer vs. Wheatmore
DESCRIPTION:
URL:https://uwharriecharter.org/event/mens-soccer-vs-wheatmore/
CATEGORIES:Athletics,Soccer
END:VEVENT
BEGIN:VEVENT
DTSTART;VALUE=DATE:20241023
DTEND;VALUE=DATE:20241024
DTSTAMP:20260424T002509
CREATED:20240905T173314Z
LAST-MODIFIED:20241022T210538Z
UID:1791-1729641600-1729727999@uwharriecharter.org
SUMMARY:Men's Soccer @ Eastern Randolph
DESCRIPTION:
URL:https://uwharriecharter.org/event/mens-soccer-eastern-randolph/
CATEGORIES:Athletics,Soccer
END:VEVENT
BEGIN:VEVENT
DTSTART;TZID=America/Halifax:20241021T180000
DTEND;TZID=America/Halifax:20241021T190000
DTSTAMP:20260424T002509
CREATED:20240905T173313Z
LAST-MODIFIED:20241021T201305Z
UID:1787-1729533600-1729537200@uwharriecharter.org
SUMMARY:Men's Soccer vs. Randlemn
DESCRIPTION:
URL:https://uwharriecharter.org/event/mens-soccer-vs-randlemn/
CATEGORIES:Athletics,Soccer
END:VEVENT
BEGIN:VEVENT
DTSTART;TZID=America/Halifax:20241016T180000
DTEND;TZID=America/Halifax:20241016T190000
DTSTAMP:20260424T002509
CREATED:20240905T173313Z
LAST-MODIFIED:20241016T160137Z
UID:1783-1729101600-1729105200@uwharriecharter.org
SUMMARY:Men's Soccer @ Trinity
DESCRIPTION:
URL:https://uwharriecharter.org/event/mens-soccer-trinity/
CATEGORIES:Athletics,Soccer
END:VEVENT
BEGIN:VEVENT
DTSTART;TZID=America/Halifax:20241014T180000
DTEND;TZID=America/Halifax:20241014T190000
DTSTAMP:20260424T002509
CREATED:20240905T173313Z
LAST-MODIFIED:20241014T013426Z
UID:1781-1728928800-1728932400@uwharriecharter.org
SUMMARY:Men's Soccer @ Providence Grove
DESCRIPTION:
URL:https://uwharriecharter.org/event/mens-soccer-providence-grove/
CATEGORIES:Athletics,Soccer
END:VEVENT
BEGIN:VEVENT
DTSTART;TZID=America/Halifax:20241007T180000
DTEND;TZID=America/Halifax:20241007T190000
DTSTAMP:20260424T002509
CREATED:20240905T173312Z
LAST-MODIFIED:20241007T034403Z
UID:1773-1728324000-1728327600@uwharriecharter.org
SUMMARY:Men's Soccer vs. Southwestern Randolph
DESCRIPTION:
URL:https://uwharriecharter.org/event/mens-soccer-vs-southwestern-randolph/
CATEGORIES:Athletics,Soccer
END:VEVENT
BEGIN:VEVENT
DTSTART;TZID=America/Halifax:20241002T190000
DTEND;TZID=America/Halifax:20241002T200000
DTSTAMP:20260424T002509
CREATED:20240905T173312Z
LAST-MODIFIED:20241002T230107Z
UID:1771-1727895600-1727899200@uwharriecharter.org
SUMMARY:Men's Soccer @ Wheatmore
DESCRIPTION:
URL:https://uwharriecharter.org/event/mens-soccer-wheatmore/
CATEGORIES:Athletics,Soccer
END:VEVENT
BEGIN:VEVENT
DTSTART;TZID=America/Halifax:20240930T180000
DTEND;TZID=America/Halifax:20240930T190000
DTSTAMP:20260424T002509
CREATED:20240905T173312Z
LAST-MODIFIED:20240929T082627Z
UID:1768-1727719200-1727722800@uwharriecharter.org
SUMMARY:Men's Soccer vs. Eastern Randolph
DESCRIPTION:
URL:https://uwharriecharter.org/event/mens-soccer-vs-eastern-randolph/
CATEGORIES:Athletics,Soccer
END:VEVENT
BEGIN:VEVENT
DTSTART;TZID=America/Halifax:20240925T180000
DTEND;TZID=America/Halifax:20240925T190000
DTSTAMP:20260424T002509
CREATED:20240905T173311Z
LAST-MODIFIED:20240925T001651Z
UID:1764-1727287200-1727290800@uwharriecharter.org
SUMMARY:Men's Soccer @ Randleman
DESCRIPTION:
URL:https://uwharriecharter.org/event/mens-soccer-randleman/
CATEGORIES:Athletics,Soccer
END:VEVENT
BEGIN:VEVENT
DTSTART;TZID=America/Halifax:20240923T180000
DTEND;TZID=America/Halifax:20240923T190000
DTSTAMP:20260424T002509
CREATED:20240905T173311Z
LAST-MODIFIED:20240922T143741Z
UID:1760-1727114400-1727118000@uwharriecharter.org
SUMMARY:Men's Soccer vs. Trinity
DESCRIPTION:
URL:https://uwharriecharter.org/event/mens-soccer-vs-trinity/
CATEGORIES:Athletics,Soccer
END:VEVENT
BEGIN:VEVENT
DTSTART;TZID=America/Halifax:20240918T180000
DTEND;TZID=America/Halifax:20240918T190000
DTSTAMP:20260424T002509
CREATED:20240905T173311Z
LAST-MODIFIED:20240917T131305Z
UID:1755-1726682400-1726686000@uwharriecharter.org
SUMMARY:Men's Soccer vs.Providence Grove
DESCRIPTION:
URL:https://uwharriecharter.org/event/mens-soccer-vs-providence-grove/
CATEGORIES:Athletics,Soccer
END:VEVENT
BEGIN:VEVENT
DTSTART;TZID=America/Halifax:20240916T180000
DTEND;TZID=America/Halifax:20240916T190000
DTSTAMP:20260424T002509
CREATED:20240905T173310Z
LAST-MODIFIED:20240916T064758Z
UID:1749-1726509600-1726513200@uwharriecharter.org
SUMMARY:Men's Soccer vs. Chatham Charter
DESCRIPTION:
URL:https://uwharriecharter.org/event/mens-soccer-vs-chatham-charter/
CATEGORIES:Athletics,Soccer
END:VEVENT
BEGIN:VEVENT
DTSTART;TZID=America/Halifax:20240906T180000
DTEND;TZID=America/Halifax:20240906T190000
DTSTAMP:20260424T002509
CREATED:20240905T173309Z
LAST-MODIFIED:20240905T173930Z
UID:1733-1725645600-1725649200@uwharriecharter.org
SUMMARY:Men's Soccer vs. Asheboro Hybrid
DESCRIPTION:
URL:https://uwharriecharter.org/event/mens-soccer-vs-asheboro-hybrid/
CATEGORIES:Athletics,Soccer
END:VEVENT
END:VCALENDAR