BEGIN:VCALENDAR
VERSION:2.0
PRODID:-//Uwharrie Charter Academy - ECPv6.15.15//NONSGML v1.0//EN
CALSCALE:GREGORIAN
METHOD:PUBLISH
X-WR-CALNAME:Uwharrie Charter Academy
X-ORIGINAL-URL:https://uwharriecharter.org
X-WR-CALDESC:Events for Uwharrie Charter Academy
REFRESH-INTERVAL;VALUE=DURATION:PT1H
X-Robots-Tag:noindex
X-PUBLISHED-TTL:PT1H
BEGIN:VTIMEZONE
TZID:America/Halifax
BEGIN:DAYLIGHT
TZOFFSETFROM:-0400
TZOFFSETTO:-0300
TZNAME:ADT
DTSTART:20230312T060000
END:DAYLIGHT
BEGIN:STANDARD
TZOFFSETFROM:-0300
TZOFFSETTO:-0400
TZNAME:AST
DTSTART:20231105T050000
END:STANDARD
BEGIN:DAYLIGHT
TZOFFSETFROM:-0400
TZOFFSETTO:-0300
TZNAME:ADT
DTSTART:20240310T060000
END:DAYLIGHT
BEGIN:STANDARD
TZOFFSETFROM:-0300
TZOFFSETTO:-0400
TZNAME:AST
DTSTART:20241103T050000
END:STANDARD
BEGIN:DAYLIGHT
TZOFFSETFROM:-0400
TZOFFSETTO:-0300
TZNAME:ADT
DTSTART:20250309T060000
END:DAYLIGHT
BEGIN:STANDARD
TZOFFSETFROM:-0300
TZOFFSETTO:-0400
TZNAME:AST
DTSTART:20251102T050000
END:STANDARD
END:VTIMEZONE
BEGIN:VEVENT
DTSTART;TZID=America/Halifax:20241010T170000
DTEND;TZID=America/Halifax:20241010T193000
DTSTAMP:20260424T033055
CREATED:20240905T173312Z
LAST-MODIFIED:20241010T062416Z
UID:1777-1728579600-1728588600@uwharriecharter.org
SUMMARY:Volleyball @ Southwestern Randolph
DESCRIPTION:
URL:https://uwharriecharter.org/event/volleyball-southwestern-randolph/
CATEGORIES:Athletics,Volleyball
END:VEVENT
BEGIN:VEVENT
DTSTART;TZID=America/Halifax:20241009T160000
DTEND;TZID=America/Halifax:20241009T170000
DTSTAMP:20260424T033055
CREATED:20240905T173312Z
LAST-MODIFIED:20241009T043424Z
UID:1776-1728489600-1728493200@uwharriecharter.org
SUMMARY:Cross Country vs. Wheatmore @ SWR
DESCRIPTION:
URL:https://uwharriecharter.org/event/cross-country-wheatmore/
CATEGORIES:Athletics,Cross Country
END:VEVENT
BEGIN:VEVENT
DTSTART;TZID=America/Halifax:20241008T170000
DTEND;TZID=America/Halifax:20241008T193000
DTSTAMP:20260424T033055
CREATED:20240905T173312Z
LAST-MODIFIED:20241008T035321Z
UID:1775-1728406800-1728415800@uwharriecharter.org
SUMMARY:Volleyball vs. Wheatmore (Senior Night)
DESCRIPTION:
URL:https://uwharriecharter.org/event/volleyball-vs-wheatmore-senior-night/
CATEGORIES:Athletics,Volleyball
END:VEVENT
BEGIN:VEVENT
DTSTART;VALUE=DATE:20241008
DTEND;VALUE=DATE:20241009
DTSTAMP:20260424T033055
CREATED:20240905T173312Z
LAST-MODIFIED:20241008T035321Z
UID:1774-1728345600-1728431999@uwharriecharter.org
SUMMARY:Women's Tennis Conference Tournament (Asheboro)
DESCRIPTION:
URL:https://uwharriecharter.org/event/womens-tennis-conference-tournament-asheboro/
CATEGORIES:Athletics,Tennis
END:VEVENT
BEGIN:VEVENT
DTSTART;TZID=America/Halifax:20241007T180000
DTEND;TZID=America/Halifax:20241007T190000
DTSTAMP:20260424T033055
CREATED:20240905T173312Z
LAST-MODIFIED:20241007T034403Z
UID:1773-1728324000-1728327600@uwharriecharter.org
SUMMARY:Men's Soccer vs. Southwestern Randolph
DESCRIPTION:
URL:https://uwharriecharter.org/event/mens-soccer-vs-southwestern-randolph/
CATEGORIES:Athletics,Soccer
END:VEVENT
BEGIN:VEVENT
DTSTART;TZID=America/Halifax:20241003T160000
DTEND;TZID=America/Halifax:20241003T170000
DTSTAMP:20260424T033055
CREATED:20240905T173312Z
LAST-MODIFIED:20241002T230108Z
UID:1770-1727971200-1727974800@uwharriecharter.org
SUMMARY:Cross Country vs. Providence Grove (Home Meet)
DESCRIPTION:
URL:https://uwharriecharter.org/event/cross-country-vs-providence-grove-home-meet/
CATEGORIES:Athletics,Cross Country
END:VEVENT
BEGIN:VEVENT
DTSTART;TZID=America/Halifax:20241002T190000
DTEND;TZID=America/Halifax:20241002T200000
DTSTAMP:20260424T033055
CREATED:20240905T173312Z
LAST-MODIFIED:20241002T230107Z
UID:1771-1727895600-1727899200@uwharriecharter.org
SUMMARY:Men's Soccer @ Wheatmore
DESCRIPTION:
URL:https://uwharriecharter.org/event/mens-soccer-wheatmore/
CATEGORIES:Athletics,Soccer
END:VEVENT
BEGIN:VEVENT
DTSTART;VALUE=DATE:20241002
DTEND;VALUE=DATE:20241003
DTSTAMP:20260424T033055
CREATED:20240905T173312Z
LAST-MODIFIED:20241002T230107Z
UID:1772-1727827200-1727913599@uwharriecharter.org
SUMMARY:Women's Tennis @ Southwestern Randolph
DESCRIPTION:
URL:https://uwharriecharter.org/event/womens-tennis-southwestern-randolph/
CATEGORIES:Athletics,Tennis
END:VEVENT
BEGIN:VEVENT
DTSTART;TZID=America/Halifax:20241001T170000
DTEND;TZID=America/Halifax:20241001T193000
DTSTAMP:20260424T033055
CREATED:20240905T173312Z
LAST-MODIFIED:20241001T200804Z
UID:1769-1727802000-1727811000@uwharriecharter.org
SUMMARY:Volleyball vs. Randleman (Dig Pink)
DESCRIPTION:
URL:https://uwharriecharter.org/event/volleyball-vs-randleman-dig-pink/
CATEGORIES:Athletics,Volleyball
END:VEVENT
BEGIN:VEVENT
DTSTART;TZID=America/Halifax:20240930T180000
DTEND;TZID=America/Halifax:20240930T190000
DTSTAMP:20260424T033055
CREATED:20240905T173312Z
LAST-MODIFIED:20240929T082627Z
UID:1768-1727719200-1727722800@uwharriecharter.org
SUMMARY:Men's Soccer vs. Eastern Randolph
DESCRIPTION:
URL:https://uwharriecharter.org/event/mens-soccer-vs-eastern-randolph/
CATEGORIES:Athletics,Soccer
END:VEVENT
BEGIN:VEVENT
DTSTART;TZID=America/Halifax:20240930T160000
DTEND;TZID=America/Halifax:20240930T170000
DTSTAMP:20260424T033055
CREATED:20240905T173312Z
LAST-MODIFIED:20240929T082627Z
UID:1767-1727712000-1727715600@uwharriecharter.org
SUMMARY:Women's Tennis vs. Wheatmore
DESCRIPTION:
URL:https://uwharriecharter.org/event/womens-tennis-vs-wheatmore/
CATEGORIES:Athletics,Tennis
END:VEVENT
BEGIN:VEVENT
DTSTART;TZID=America/Halifax:20240926T170000
DTEND;TZID=America/Halifax:20240926T193000
DTSTAMP:20260424T033055
CREATED:20240905T173311Z
LAST-MODIFIED:20240926T150040Z
UID:1765-1727370000-1727379000@uwharriecharter.org
SUMMARY:Volleyball @ Trinity
DESCRIPTION:
URL:https://uwharriecharter.org/event/volleyball-trinity/
CATEGORIES:Athletics,Volleyball
END:VEVENT
BEGIN:VEVENT
DTSTART;TZID=America/Halifax:20240925T180000
DTEND;TZID=America/Halifax:20240925T190000
DTSTAMP:20260424T033055
CREATED:20240905T173311Z
LAST-MODIFIED:20240925T001651Z
UID:1764-1727287200-1727290800@uwharriecharter.org
SUMMARY:Men's Soccer @ Randleman
DESCRIPTION:
URL:https://uwharriecharter.org/event/mens-soccer-randleman/
CATEGORIES:Athletics,Soccer
END:VEVENT
BEGIN:VEVENT
DTSTART;TZID=America/Halifax:20240925T160000
DTEND;TZID=America/Halifax:20240925T170000
DTSTAMP:20260424T033055
CREATED:20240905T173311Z
LAST-MODIFIED:20240925T001650Z
UID:1763-1727280000-1727283600@uwharriecharter.org
SUMMARY:Women's Tennis @ Eastern Randolph
DESCRIPTION:
URL:https://uwharriecharter.org/event/womens-tennis-eastern-randolph/
CATEGORIES:Athletics,Tennis
END:VEVENT
BEGIN:VEVENT
DTSTART;TZID=America/Halifax:20240925T160000
DTEND;TZID=America/Halifax:20240925T170000
DTSTAMP:20260424T033055
CREATED:20240905T173311Z
LAST-MODIFIED:20240925T001651Z
UID:1762-1727280000-1727283600@uwharriecharter.org
SUMMARY:Cross Country @ Southwestern Randolph
DESCRIPTION:
URL:https://uwharriecharter.org/event/cross-country-southwestern-randolph/
CATEGORIES:Athletics,Cross Country
END:VEVENT
BEGIN:VEVENT
DTSTART;TZID=America/Halifax:20240924T170000
DTEND;TZID=America/Halifax:20240924T193000
DTSTAMP:20260424T033055
CREATED:20240905T173311Z
LAST-MODIFIED:20240922T143741Z
UID:1761-1727197200-1727206200@uwharriecharter.org
SUMMARY:Volleyball vs. Providence Grove
DESCRIPTION:
URL:https://uwharriecharter.org/event/volleyball-vs-providence-grove/
CATEGORIES:Athletics,Volleyball
END:VEVENT
BEGIN:VEVENT
DTSTART;TZID=America/Halifax:20240923T180000
DTEND;TZID=America/Halifax:20240923T190000
DTSTAMP:20260424T033055
CREATED:20240905T173311Z
LAST-MODIFIED:20240922T143741Z
UID:1760-1727114400-1727118000@uwharriecharter.org
SUMMARY:Men's Soccer vs. Trinity
DESCRIPTION:
URL:https://uwharriecharter.org/event/mens-soccer-vs-trinity/
CATEGORIES:Athletics,Soccer
END:VEVENT
BEGIN:VEVENT
DTSTART;TZID=America/Halifax:20240923T170000
DTEND;TZID=America/Halifax:20240923T193000
DTSTAMP:20260424T033055
CREATED:20240905T173311Z
LAST-MODIFIED:20240922T143740Z
UID:1759-1727110800-1727119800@uwharriecharter.org
SUMMARY:Volleyball @ Mt. Airy
DESCRIPTION:
URL:https://uwharriecharter.org/event/volleyball-mt-airy/
CATEGORIES:Athletics,Volleyball
END:VEVENT
BEGIN:VEVENT
DTSTART;TZID=America/Halifax:20240923T160000
DTEND;TZID=America/Halifax:20240923T163000
DTSTAMP:20260424T033055
CREATED:20240905T173311Z
LAST-MODIFIED:20240922T143740Z
UID:1758-1727107200-1727109000@uwharriecharter.org
SUMMARY:Women's Tennis vs. Randleman
DESCRIPTION:
URL:https://uwharriecharter.org/event/womens-tennis-vs-randleman/
CATEGORIES:Athletics,Tennis
END:VEVENT
BEGIN:VEVENT
DTSTART;TZID=America/Halifax:20240918T180000
DTEND;TZID=America/Halifax:20240918T190000
DTSTAMP:20260424T033055
CREATED:20240905T173311Z
LAST-MODIFIED:20240917T131305Z
UID:1755-1726682400-1726686000@uwharriecharter.org
SUMMARY:Men's Soccer vs.Providence Grove
DESCRIPTION:
URL:https://uwharriecharter.org/event/mens-soccer-vs-providence-grove/
CATEGORIES:Athletics,Soccer
END:VEVENT
BEGIN:VEVENT
DTSTART;TZID=America/Halifax:20240918T160000
DTEND;TZID=America/Halifax:20240918T170000
DTSTAMP:20260424T033055
CREATED:20240905T173311Z
LAST-MODIFIED:20240917T131305Z
UID:1753-1726675200-1726678800@uwharriecharter.org
SUMMARY:Women's Tennis @ Trinity
DESCRIPTION:
URL:https://uwharriecharter.org/event/womens-tennis-trinity/
CATEGORIES:Athletics,Tennis
END:VEVENT
BEGIN:VEVENT
DTSTART;TZID=America/Halifax:20240918T160000
DTEND;TZID=America/Halifax:20240918T170000
DTSTAMP:20260424T033055
CREATED:20240905T173311Z
LAST-MODIFIED:20240917T131305Z
UID:1754-1726675200-1726678800@uwharriecharter.org
SUMMARY:Cross Country Preseason @ Wheatmore
DESCRIPTION:
URL:https://uwharriecharter.org/event/cross-country-preseason-wheatmore/
CATEGORIES:Athletics,Cross Country
END:VEVENT
BEGIN:VEVENT
DTSTART;TZID=America/Halifax:20240917T170000
DTEND;TZID=America/Halifax:20240917T193000
DTSTAMP:20260424T033055
CREATED:20240905T173311Z
LAST-MODIFIED:20240917T131305Z
UID:1752-1726592400-1726601400@uwharriecharter.org
SUMMARY:Volleyball vs. Southwestern Randolph
DESCRIPTION:
URL:https://uwharriecharter.org/event/volleyball-vs-southwestern-randolph/
CATEGORIES:Athletics,Volleyball
END:VEVENT
BEGIN:VEVENT
DTSTART;TZID=America/Halifax:20240916T180000
DTEND;TZID=America/Halifax:20240916T190000
DTSTAMP:20260424T033055
CREATED:20240905T173310Z
LAST-MODIFIED:20240916T064758Z
UID:1749-1726509600-1726513200@uwharriecharter.org
SUMMARY:Men's Soccer vs. Chatham Charter
DESCRIPTION:
URL:https://uwharriecharter.org/event/mens-soccer-vs-chatham-charter/
CATEGORIES:Athletics,Soccer
END:VEVENT
BEGIN:VEVENT
DTSTART;TZID=America/Halifax:20240916T160000
DTEND;TZID=America/Halifax:20240919T170000
DTSTAMP:20260424T033055
CREATED:20240905T173310Z
LAST-MODIFIED:20240919T042431Z
UID:1742-1726502400-1726765200@uwharriecharter.org
SUMMARY:Women's Tennis vs. Providence Grove
DESCRIPTION:
URL:https://uwharriecharter.org/event/womens-tennis-vs-providence-grove/
CATEGORIES:Athletics,Tennis
END:VEVENT
BEGIN:VEVENT
DTSTART;TZID=America/Halifax:20240916T160000
DTEND;TZID=America/Halifax:20240916T170000
DTSTAMP:20260424T033055
CREATED:20240905T173311Z
LAST-MODIFIED:20240905T174023Z
UID:1751-1726502400-1726506000@uwharriecharter.org
SUMMARY:Women's Tennis vs. Providence Grove
DESCRIPTION:
URL:https://uwharriecharter.org/event/womens-tennis-vs-providence-grove-2/
CATEGORIES:Athletics,Tennis
END:VEVENT
BEGIN:VEVENT
DTSTART;TZID=America/Halifax:20240912T170000
DTEND;TZID=America/Halifax:20240912T193000
DTSTAMP:20260424T033055
CREATED:20240905T173311Z
LAST-MODIFIED:20240905T174100Z
UID:1750-1726160400-1726169400@uwharriecharter.org
SUMMARY:Volleyball @ Wheatmore
DESCRIPTION:
URL:https://uwharriecharter.org/event/volleyball-wheatmore-2/
CATEGORIES:Athletics,Volleyball
END:VEVENT
BEGIN:VEVENT
DTSTART;TZID=America/Halifax:20240912T170000
DTEND;TZID=America/Halifax:20240912T193000
DTSTAMP:20260424T033055
CREATED:20240905T173310Z
LAST-MODIFIED:20240912T163515Z
UID:1739-1726160400-1726169400@uwharriecharter.org
SUMMARY:Volleyball @ Wheatmore
DESCRIPTION:
URL:https://uwharriecharter.org/event/volleyball-wheatmore/
CATEGORIES:Athletics,Volleyball
END:VEVENT
BEGIN:VEVENT
DTSTART;TZID=America/Halifax:20240911T170000
DTEND;TZID=America/Halifax:20240911T193000
DTSTAMP:20260424T033055
CREATED:20240905T173310Z
LAST-MODIFIED:20240911T103136Z
UID:1738-1726074000-1726083000@uwharriecharter.org
SUMMARY:Volleyball vs. Richmond
DESCRIPTION:
URL:https://uwharriecharter.org/event/volleyball-vs-richmond/
CATEGORIES:Athletics,Volleyball
END:VEVENT
BEGIN:VEVENT
DTSTART;TZID=America/Halifax:20240911T170000
DTEND;TZID=America/Halifax:20240911T193000
DTSTAMP:20260424T033055
CREATED:20240905T173310Z
LAST-MODIFIED:20240905T174100Z
UID:1748-1726074000-1726083000@uwharriecharter.org
SUMMARY:Volleyball vs. Richmond
DESCRIPTION:
URL:https://uwharriecharter.org/event/volleyball-vs-richmond-2/
CATEGORIES:Athletics,Volleyball
END:VEVENT
END:VCALENDAR