BEGIN:VCALENDAR
VERSION:2.0
PRODID:-//Uwharrie Charter Academy - ECPv6.15.15//NONSGML v1.0//EN
CALSCALE:GREGORIAN
METHOD:PUBLISH
X-WR-CALNAME:Uwharrie Charter Academy
X-ORIGINAL-URL:https://uwharriecharter.org
X-WR-CALDESC:Events for Uwharrie Charter Academy
REFRESH-INTERVAL;VALUE=DURATION:PT1H
X-Robots-Tag:noindex
X-PUBLISHED-TTL:PT1H
BEGIN:VTIMEZONE
TZID:America/Halifax
BEGIN:DAYLIGHT
TZOFFSETFROM:-0400
TZOFFSETTO:-0300
TZNAME:ADT
DTSTART:20230312T060000
END:DAYLIGHT
BEGIN:STANDARD
TZOFFSETFROM:-0300
TZOFFSETTO:-0400
TZNAME:AST
DTSTART:20231105T050000
END:STANDARD
BEGIN:DAYLIGHT
TZOFFSETFROM:-0400
TZOFFSETTO:-0300
TZNAME:ADT
DTSTART:20240310T060000
END:DAYLIGHT
BEGIN:STANDARD
TZOFFSETFROM:-0300
TZOFFSETTO:-0400
TZNAME:AST
DTSTART:20241103T050000
END:STANDARD
BEGIN:DAYLIGHT
TZOFFSETFROM:-0400
TZOFFSETTO:-0300
TZNAME:ADT
DTSTART:20250309T060000
END:DAYLIGHT
BEGIN:STANDARD
TZOFFSETFROM:-0300
TZOFFSETTO:-0400
TZNAME:AST
DTSTART:20251102T050000
END:STANDARD
END:VTIMEZONE
BEGIN:VEVENT
DTSTART;VALUE=DATE:20241002
DTEND;VALUE=DATE:20241003
DTSTAMP:20260425T132054
CREATED:20240905T173312Z
LAST-MODIFIED:20241002T230107Z
UID:1772-1727827200-1727913599@uwharriecharter.org
SUMMARY:Women's Tennis @ Southwestern Randolph
DESCRIPTION:
URL:https://uwharriecharter.org/event/womens-tennis-southwestern-randolph/
CATEGORIES:Athletics,Tennis
END:VEVENT
BEGIN:VEVENT
DTSTART;TZID=America/Halifax:20241002T190000
DTEND;TZID=America/Halifax:20241002T200000
DTSTAMP:20260425T132054
CREATED:20240905T173312Z
LAST-MODIFIED:20241002T230107Z
UID:1771-1727895600-1727899200@uwharriecharter.org
SUMMARY:Men's Soccer @ Wheatmore
DESCRIPTION:
URL:https://uwharriecharter.org/event/mens-soccer-wheatmore/
CATEGORIES:Athletics,Soccer
END:VEVENT
END:VCALENDAR