BEGIN:VCALENDAR
VERSION:2.0
PRODID:-//Uwharrie Charter Academy - ECPv6.15.15//NONSGML v1.0//EN
CALSCALE:GREGORIAN
METHOD:PUBLISH
X-ORIGINAL-URL:https://uwharriecharter.org
X-WR-CALDESC:Events for Uwharrie Charter Academy
REFRESH-INTERVAL;VALUE=DURATION:PT1H
X-Robots-Tag:noindex
X-PUBLISHED-TTL:PT1H
BEGIN:VTIMEZONE
TZID:America/Halifax
BEGIN:DAYLIGHT
TZOFFSETFROM:-0400
TZOFFSETTO:-0300
TZNAME:ADT
DTSTART:20230312T060000
END:DAYLIGHT
BEGIN:STANDARD
TZOFFSETFROM:-0300
TZOFFSETTO:-0400
TZNAME:AST
DTSTART:20231105T050000
END:STANDARD
BEGIN:DAYLIGHT
TZOFFSETFROM:-0400
TZOFFSETTO:-0300
TZNAME:ADT
DTSTART:20240310T060000
END:DAYLIGHT
BEGIN:STANDARD
TZOFFSETFROM:-0300
TZOFFSETTO:-0400
TZNAME:AST
DTSTART:20241103T050000
END:STANDARD
BEGIN:DAYLIGHT
TZOFFSETFROM:-0400
TZOFFSETTO:-0300
TZNAME:ADT
DTSTART:20250309T060000
END:DAYLIGHT
BEGIN:STANDARD
TZOFFSETFROM:-0300
TZOFFSETTO:-0400
TZNAME:AST
DTSTART:20251102T050000
END:STANDARD
END:VTIMEZONE
BEGIN:VEVENT
DTSTART;TZID=America/Halifax:20240905T160000
DTEND;TZID=America/Halifax:20240905T170000
DTSTAMP:20260425T150825
CREATED:20240905T173309Z
LAST-MODIFIED:20240905T174023Z
UID:1731-1725552000-1725555600@uwharriecharter.org
SUMMARY:Women's Tennis @ Wheatmore
DESCRIPTION:
URL:https://uwharriecharter.org/event/womens-tennis-wheatmore/
CATEGORIES:Athletics,Tennis
END:VEVENT
BEGIN:VEVENT
DTSTART;TZID=America/Halifax:20240905T170000
DTEND;TZID=America/Halifax:20240905T193000
DTSTAMP:20260425T150825
CREATED:20240905T173309Z
LAST-MODIFIED:20240905T174100Z
UID:1732-1725555600-1725564600@uwharriecharter.org
SUMMARY:Volleyball @ Randleman
DESCRIPTION:
URL:https://uwharriecharter.org/event/volleyball-randleman/
CATEGORIES:Athletics,Volleyball
END:VEVENT
END:VCALENDAR